BEGIN:VCALENDAR
VERSION:2.0
PRODID:-//ChamberMaster//Event Calendar 2.0//EN
METHOD:PUBLISH
X-PUBLISHED-TTL:P3D
REFRESH-INTERVAL:P3D
CALSCALE:GREGORIAN
BEGIN:VEVENT
DTSTART:20200731T103000Z
DTEND:20200801T003000Z
X-MICROSOFT-CDO-ALLDAYEVENT:FALSE
SUMMARY:THe Chef's Table at Third Street
DESCRIPTION:A one night\, multi-course meal\, highlighting fresh seasonal ingredients prepared by Third Street's Executive Chef. Relax and reconnect with friends and loved ones in a safe and intimate setting with limited seating. BYOB
X-ALT-DESC;FMTTYPE=text/html:<div>&nbsp\;</div>\n\n<div><span style="font-size:14px">A one night\, multi-course meal\, highlighting fresh seasonal ingredients prepared by Third Street&#39\;s Executive Chef. Relax and reconnect with friends and loved ones in a safe and intimate setting with limited seating. BYOB</span></div>\n
LOCATION:600 W. Third Street Greenville\, NC 27834
UID:e.840.11428
SEQUENCE:3
DTSTAMP:20260419T192549Z
URL:https://business.greenvillenc.org/events/details/the-chef-s-table-at-third-street-11428
END:VEVENT

END:VCALENDAR
