BEGIN:VCALENDAR
VERSION:2.0
PRODID:-//ChamberMaster//Event Calendar 2.0//EN
METHOD:PUBLISH
X-PUBLISHED-TTL:P3D
REFRESH-INTERVAL:P3D
CALSCALE:GREGORIAN
BEGIN:VEVENT
DTSTART;VALUE=DATE:20200307
DTEND;VALUE=DATE:20200308
TRANSP:TRANSPARENT
X-MICROSOFT-CDO-ALLDAYEVENT:TRUE
SUMMARY:The Artist’s Cafe House Band Live at The Greenville Home Show
DESCRIPTION:The Artist's Cafe crew and chef will be at the home show this Saturday afternoon at 2:00 offering sampling's of our food. The band will also be performing from 2:00 -3:00pm.
X-ALT-DESC;FMTTYPE=text/html:<span style="color:rgb(29\, 33\, 41)\; font-family:helvetica\,arial\,sans-serif\; font-size:14px">The Artist&rsquo\;s Cafe crew and chef will be at the home show this Saturday afternoon at 2:00 offering sampling&rsquo\;s of our food. The band will also be performing from 2:00 -3:00pm.</span>
LOCATION:4125 J Old Tar Road\, Winterville\, NC
UID:e.840.11403
SEQUENCE:3
DTSTAMP:20260420T031448Z
URL:https://business.greenvillenc.org/events/details/the-artist-s-cafe-house-band-live-at-the-greenville-home-show-11403
END:VEVENT

END:VCALENDAR
