BEGIN:VCALENDAR
VERSION:2.0
PRODID:-//ChamberMaster//Event Calendar 2.0//EN
METHOD:PUBLISH
X-PUBLISHED-TTL:P3D
REFRESH-INTERVAL:P3D
CALSCALE:GREGORIAN
BEGIN:VEVENT
DTSTART:20150919T233000Z
DTEND:20150920T010000Z
X-MICROSOFT-CDO-ALLDAYEVENT:FALSE
SUMMARY:The 2015-2016 Fisk on Fourth Concert Series
DESCRIPTION:The 2015-2016 Fisk on Fourth Concert Series opens the season with organist Andrew Scanlon and the Inauguration of the new Voix humaine stop on The Perkins and Wells Memorial Organ\, C. B. Fisk\, Opus 126.  The addition of the new stop is in celebration of the 10th Anniversary Year of the Fisk Organ.  Mr. Scanlon is Organist-Choirmaster at St. Paul's Episcopal Church and Teaching Assistant Professor\, Organ and Sacred Music\, ECU.  This exciting concert will highlight the Voix humaine with music by Bruhns\, Hindemith\, Couperin\, Franc and Walton.  \n\nThe Fisk on Fourth Concert Series is made possible through the \n\nEast Carolina Musical Arts Education Foundation (ECMAEF)\, a non-profit corporation\, created to enrich the cultural offerings in Eastern North Carolina and to encourage continued interest in and performance of pipe organ and choral music.
X-ALT-DESC;FMTTYPE=text/html:<em><span style="font-family: century schoolbook\,serif\;"><span style="font-size: 12pt\;">The 2015-2016 Fisk on Fourth Concert Series opens the season with <strong>organist Andrew Scanlon and the Inauguration of the new Voix humaine stop </strong>on The Perkins and Wells Memorial Organ\, C. B. Fisk\, Opus 126.&nbsp\; The addition of the new stop is in celebration of the 10<sup>th</sup> Anniversary Year of the Fisk Organ.&nbsp\; Mr. Scanlon is Organist-Choirmaster at St. Paul&rsquo\;s Episcopal Church and Teaching Assistant Professor\, Organ and Sacred Music\, ECU.&nbsp\; This exciting concert will highlight the Voix humaine with music by Bruhns\, Hindemith\, Couperin\, Franc and Walton. &nbsp\;<br />\nThe Fisk on Fourth Concert Series is made possible through the </span></span></em><br />\n<em><span style="font-family: century schoolbook\,serif\;"><span style="font-size: 12pt\;">East Carolina Musical Arts Education Foundation (ECMAEF)\, a non-profit corporation\, created to enrich the cultural offerings in Eastern North Carolina and to encourage continued interest in and performance of pipe organ and choral music.</span></span></em><br />\n&nbsp\;<br />\n&nbsp\;
LOCATION:St. Paul's Episcopal Church\, 401 East Fourth Street\, Greenville
UID:e.840.1932
SEQUENCE:3
DTSTAMP:20260424T210330Z
URL:https://business.greenvillenc.org/events/details/the-2015-2016-fisk-on-fourth-concert-series-09-19-2015-1932
END:VEVENT

END:VCALENDAR
