BEGIN:VCALENDAR
VERSION:2.0
PRODID:-//ChamberMaster//Event Calendar 2.0//EN
METHOD:PUBLISH
X-PUBLISHED-TTL:P3D
REFRESH-INTERVAL:P3D
CALSCALE:GREGORIAN
BEGIN:VEVENT
DTSTART;VALUE=DATE:20170506
DTEND;VALUE=DATE:20170507
TRANSP:TRANSPARENT
X-MICROSOFT-CDO-ALLDAYEVENT:TRUE
SUMMARY:The 14th Annual Derby Dash Bash
DESCRIPTION:The 14th Annual Derby Dash Bash will be held on Saturday May 6th\, 2017 concurrent with the running of the Kentucky Derby. It will begin at 4:00 p.m. and will be held at the Rock Springs Center\, 4025 Hwy 43 North\, Greenville\, NC 27834. Those attending the Derby Dash Bash will enjoy appetizers\, drinks\, dinner\, dessert\, live music\, Derby race raffle\, ladies Derby hat contest\, games\, silent and live auctions and viewing of the Kentucky Derby. Weather permitting\, some of our program horses will join the party\, and attendees will have a chance to meet them and to bid on a year's sponsorship for each one during the live auction. We are seeking individual and corporate sponsors\, as well as community support through the sale of tickets. The Derby Dash Bash is the signature annual fund raising event for the operating fund of Rocking Horse Ranch. Monies raised help support operating expenses such as care of our horses\, maintenance of our facility\, insurance and utility costs\, and employee salaries.
X-ALT-DESC;FMTTYPE=text/html:<span style="font-size:16px"><span style="font-family:arial\,helvetica\,sans-serif">The <strong>14th Annual Derby Dash Bash </strong>will be held on Saturday May 6th\, 2017 concurrent with the running of the <strong>Kentucky Derby</strong>. It will begin at 4:00 p.m. and will be held at the Rock Springs Center\, 4025 Hwy 43 North\, Greenville\, NC 27834. Those attending the Derby Dash Bash will enjoy appetizers\, drinks\, dinner\, dessert\, live music\, Derby race raffle\, ladies Derby hat contest\, games\, silent and live auctions and viewing of the Kentucky Derby. Weather permitting\, some of our program horses will join the party\, and attendees will have a chance to meet them and to bid on a year&#39\;s sponsorship for each one during the live auction. We are seeking individual and corporate sponsors\, as well as community support through the sale of tickets. The <strong>Derby Dash Bash </strong>is the signature annual fund raising event for the operating fund of Rocking Horse Ranch. Monies raised help support operating expenses such as care of our horses\, maintenance of our facility\, insurance and utility costs\, and employee salaries. </span></span><br />\n&nbsp\;
LOCATION:Rock Springs Center 4025 Hwy 43 North Greenville\, NC 27834
UID:e.840.7732
SEQUENCE:3
DTSTAMP:20260423T151116Z
URL:https://business.greenvillenc.org/events/details/the-14th-annual-derby-dash-bash-7732
END:VEVENT

END:VCALENDAR
