BEGIN:VCALENDAR
VERSION:2.0
PRODID:-//ChamberMaster//Event Calendar 2.0//EN
METHOD:PUBLISH
X-PUBLISHED-TTL:P3D
REFRESH-INTERVAL:P3D
CALSCALE:GREGORIAN
BEGIN:VEVENT
DTSTART:20171103T143000Z
DTEND:20171103T173000Z
X-MICROSOFT-CDO-ALLDAYEVENT:FALSE
SUMMARY:Texas Roadhouse Boxed Lunch Event to benefit Riley's Army
DESCRIPTION:We wanted to invite you and your office to join us this year!  Texas Roadhouse will be the host the TRH Boxed Lunch Event to benefit Riley's Army on Friday Nov 3rd from 10:30am-1:30pm.\n\n  For $10 per boxed lunch- you can choose between 2 options: Option number one consists of a pulled-pork sandwich\, french-fries\, fruit cup\, and a pickle\; while option number two consists of a grilled chicken sandwich\, french-fries\, fruit cup\, and a pickle. Each meal will come with bottled water. \n\nWe will deliver meals to businesses/ schools with 10 or more orders. \n\nSome of the money raised will help Riley's Army sponsor children to Camp Rainbow.\n\nYou may preorder your boxed lunch anytime between Oct 15th and Oct 31st  by calling Kimber Stone at 919-608-8421 or email at kimber@rileysarmy.com.  We have a goal of 600 boxed lunches!  \n\n\n\n \n\nDrivers/ Volunteers sign up here:  http://www.signupgenius.com/go/9040949adab28ab9-texas2\n\nRiley's Army's mission is to support children with cancer and their families of Eastern NC and you are the heartbeat of our mission.  We cannot do any of this without you!
X-ALT-DESC;FMTTYPE=text/html:<p><span style="font-size:10pt">We wanted to invite you and your office to join us this year!&nbsp\; Texas Roadhouse will be the host the TRH Boxed Lunch Event to benefit Riley&rsquo\;s Army on Friday Nov 3<sup>rd</sup> from 10:30am-1:30pm.</span></p>\n\n<p><span style="font-size:10pt">&nbsp\;&nbsp\;For $10 per boxed lunch- you can choose between 2 options: Option number one consists of a pulled-pork sandwich\, french-fries\, fruit cup\, and a pickle\; while option number two consists of a grilled chicken sandwich\, french-fries\, fruit cup\, and a pickle. Each meal will come with bottled water. </span></p>\n\n<p><span style="font-size:10pt">We will deliver meals to businesses/ schools with 10 or more orders. </span></p>\n\n<p><span style="font-size:10pt">Some of the money raised will help Riley&rsquo\;s Army sponsor children to Camp Rainbow.</span></p>\n\n<p><span style="font-size:10pt">You may preorder your boxed lunch anytime between Oct 15<sup>th</sup> and Oct 31<sup>st</sup>&nbsp\; by calling Kimber Stone at 919-608-8421 or email at </span><span style="font-size:10pt">kimber@rileysarmy.com.&nbsp\; We have a goal of 600 boxed lunches!&nbsp\; </span><br />\n<br />\n&nbsp\;</p>\n\n<p>Drivers/ Volunteers sign up here:&nbsp\; <a href="http://www.signupgenius.com/go/9040949adab28ab9-texas2">http://www.signupgenius.com/go/9040949adab28ab9-texas2</a></p>\n\n<p><span style="font-size:10pt">Riley&rsquo\;s Army&rsquo\;s mission is to support children with cancer and their families of Eastern NC and you are the heartbeat of our mission.&nbsp\; We cannot do any of this without you!</span></p>\n
LOCATION:Texas Roadhouse- 720 Greenville Blvd
UID:e.840.8673
SEQUENCE:3
DTSTAMP:20260423T080512Z
URL:https://business.greenvillenc.org/events/details/texas-roadhouse-boxed-lunch-event-to-benefit-riley-s-army-8673
END:VEVENT

END:VCALENDAR
