BEGIN:VCALENDAR
VERSION:2.0
PRODID:-//ChamberMaster//Event Calendar 2.0//EN
METHOD:PUBLISH
X-PUBLISHED-TTL:P3D
REFRESH-INTERVAL:P3D
CALSCALE:GREGORIAN
BEGIN:VEVENT
DTSTART:20170926T130000Z
DTEND:20170927T200000Z
X-MICROSOFT-CDO-ALLDAYEVENT:FALSE
SUMMARY:Team Leader Certificate Program
DESCRIPTION:High performance organizations depend on employees called Team Leaders\, Lead Workers\, or Group Leaders more than ever before. These individuals may have limited authority\, but great responsibility for producing results and making the "rubber meet the road" as far as productivity. High performance is achieved or not achieved by those they lead\, so while the Team Leader may not have the power of management\, they must possess the skills of leadership\, communication\, goal setting\, time management and motivation. They also need to be able to improve the efficiency of their team through diagnosing problems and effectively training others.\n\nThis interactive two-day certificate program will help ensure that your Team Leaders are well prepared to perform at a high level. Through group discussions\, exercises\, role-plays\, and action planning\, participants will develop the skills they need to succeed as a Team Leader\, and better understand how to apply those skills to their specific workplace situations.\n\nWho Should Attend\n\n\n\nTeam Leaders\, Lead Workers and Group Leaders\; Project Leaders\n\nLearning Objectives\n\n\n\nAt the end of the course\, participants will be able to:\n\n\n	Describe the core tasks and responsibilities of Team Leaders\n	Describe the changes impacting their organization\n	Apply strategies to effectively influence others\n	Identify the characteristics of effective leaders\n	Communicate effectively with subordinates\, peers\, and superiors\n	Apply active listening skills in a role-play\n	Communicate clear messages and requests for action\n	Identify and resolve conflicts\n	Manage difficult employee behaviors\n	Understand what a team is and their role as a team leader\n	Develop SMART goals\n	Understand different motivational factors for employees\n	Assess the motivational climate of their work group\n	Identify actions they can take to better motivate their team\n	Apply a process to improve employee productivity\n	Provide effective reinforcing and corrective feedback\n	Identify appropriate actions to improve employee performance\n	Understand the on-the-job training process and how it relates to employee motivation and productivity\n\nTopics Covered\n\n\n	The role of the team leader\n	Characteristics of an effective leader\n	Communicating your message\n	Resolving conflict and handling difficult people\n	Providing performance feedback\n	Motivating and improving employee productivity\n	Training for results
X-ALT-DESC;FMTTYPE=text/html:<p>High performance organizations depend on employees called Team Leaders\, Lead Workers\, or Group Leaders more than ever before. These individuals may have limited authority\, but great responsibility for producing results and making the &quot\;rubber meet the road&quot\; as far as productivity. High performance is achieved or not achieved by those they lead\, so while the Team Leader may not have the power of management\, they must possess the skills of leadership\, communication\, goal setting\, time management and motivation. They also need to be able to improve the efficiency of their team through diagnosing problems and effectively training others.</p>\n\n<p>This interactive two-day certificate program will help ensure that your Team Leaders are well prepared to perform at a high level. Through group discussions\, exercises\, role-plays\, and action planning\, participants will develop the skills they need to succeed as a Team Leader\, and better understand how to apply those skills to their specific workplace situations.</p>\n\n<p style="text-align:left"><strong>Who Should&nbsp\;Attend</strong><br />\n<br />\nTeam Leaders\, Lead Workers and Group Leaders\; Project Leaders</p>\n\n<p style="text-align:left"><strong>Learning&nbsp\;Objectives</strong><br />\n<br />\nAt the end of the course\, participants will be able to:</p>\n\n<ul>\n	<li>Describe the core tasks and responsibilities of Team Leaders</li>\n	<li>Describe the changes impacting their organization</li>\n	<li>Apply strategies to effectively influence others</li>\n	<li>Identify the characteristics of effective leaders</li>\n	<li>Communicate effectively with subordinates\, peers\, and superiors</li>\n	<li>Apply active listening skills in a role-play</li>\n	<li>Communicate clear messages and requests for action</li>\n	<li>Identify and resolve conflicts</li>\n	<li>Manage difficult employee behaviors</li>\n	<li>Understand what a team is and their role as a team leader</li>\n	<li>Develop SMART goals</li>\n	<li>Understand different motivational factors for employees</li>\n	<li>Assess the motivational climate of their work group</li>\n	<li>Identify actions they can take to better motivate their team</li>\n	<li>Apply a process to improve employee productivity</li>\n	<li>Provide effective reinforcing and corrective feedback</li>\n	<li>Identify appropriate actions to improve employee performance</li>\n	<li>Understand the on-the-job training process and how it relates to employee motivation and productivity</li>\n</ul>\nTopics Covered\n\n<ul>\n	<li>The role of the team leader</li>\n	<li>Characteristics of an effective leader</li>\n	<li>Communicating your message</li>\n	<li>Resolving conflict and handling difficult people</li>\n	<li>Providing performance feedback</li>\n	<li>Motivating and improving employee productivity</li>\n	<li>Training for results</li>\n</ul>\n
LOCATION:Greenville Hilton 207 SW Greenville BLVD Greenville\, North Carolina
UID:e.840.7731
SEQUENCE:3
DTSTAMP:20260423T092322Z
URL:https://business.greenvillenc.org/events/details/team-leader-certificate-program-09-26-2017-7731
END:VEVENT

END:VCALENDAR
