BEGIN:VCALENDAR
VERSION:2.0
PRODID:-//ChamberMaster//Event Calendar 2.0//EN
METHOD:PUBLISH
X-PUBLISHED-TTL:P3D
REFRESH-INTERVAL:P3D
CALSCALE:GREGORIAN
BEGIN:VEVENT
DTSTART:20171114T140000Z
DTEND:20171114T201500Z
X-MICROSOFT-CDO-ALLDAYEVENT:FALSE
SUMMARY:TAP TALKS - Tangible\, Actionable\, Practical
DESCRIPTION:As a small business owner\, you have probably had questions in the following areas: Insurance\, scams\, intellectual property\, your website\, social media\, communications strategies\, hiring and managing employees\, laws/regulations that affect your business\, and email marketing. Please join us as we bring together experts in each field to answer your questions and give you new insight into how to better your business and make your business work for you. Registration Deadline is Oct. 31.\n\n\n\nRegister online at: https://www.ncsbc.net/workshop.aspx?ekey=380370116
X-ALT-DESC;FMTTYPE=text/html:<p>As a small business owner\, you have probably had questions in the following areas: Insurance\, scams\, intellectual property\, your website\, social media\, communications strategies\, hiring and managing employees\, laws/regulations that affect your business\, and email marketing. Please join us as we bring together experts in each field to answer your questions and give you new insight into how to better your business and make your business work for you. Registration Deadline is Oct. 31.<br />\n<br />\nRegister online at:&nbsp\;https://www.ncsbc.net/workshop.aspx?ekey=380370116</p>\n
LOCATION:PCC Greenville Center located at 3107 S. Memorial Drive.
UID:e.840.8670
SEQUENCE:3
DTSTAMP:20260423T062457Z
URL:https://business.greenvillenc.org/events/details/tap-talks-tangible-actionable-practical-8670
END:VEVENT

END:VCALENDAR
