BEGIN:VCALENDAR
VERSION:2.0
PRODID:-//ChamberMaster//Event Calendar 2.0//EN
METHOD:PUBLISH
X-PUBLISHED-TTL:P3D
REFRESH-INTERVAL:P3D
CALSCALE:GREGORIAN
BEGIN:VEVENT
DTSTART:20171028T130000Z
DTEND:20171028T160000Z
X-MICROSOFT-CDO-ALLDAYEVENT:FALSE
SUMMARY:Sylvan Learning SAT Bootcamp
DESCRIPTION:Are you ready for the SAT*?     \n\n\n\nThe college admissions process can be a nail-biting experience. (Bet it's stressful or your child\, too!) Our SylvanPrep for SAT can help reduce your student's stress and increase test scores for one of the most important exams of his or her academic life. \n\n\n\nStudents get:     \n\n  Skills and strategies needed to score high on the SAT     \n\n  24/7 online access to thousands of video lessons     \n\n  Interactive vocabulary builder with hundreds of common SAT words   \n\n  Multiple full-length\, timed practice tests         \n\n\n\nRegistration is under way for test prep sessions\, so call today!\n\n\n\nPREPARE FOR TOMORROW     The Path to College Success Starts Here
X-ALT-DESC;FMTTYPE=text/html:Are you ready for the SAT*?&nbsp\; &nbsp\; &nbsp\;<br />\n<br />\nThe college admissions process can be a nail-biting experience. (Bet it&#39\;s stressful or your child\, too!) Our SylvanPrep for SAT can help reduce your student&#39\;s stress and increase test scores for one of the most important exams of his or her academic life.&nbsp\;<br />\n<br />\nStudents get:&nbsp\; &nbsp\; &nbsp\;<br />\n&bull\; Skills and strategies needed to score high on the SAT&nbsp\; &nbsp\; &nbsp\;<br />\n&bull\; 24/7 online access to thousands of video lessons&nbsp\; &nbsp\; &nbsp\;<br />\n&bull\; Interactive vocabulary builder with hundreds of common SAT words&nbsp\; &nbsp\;<br />\n&bull\; Multiple full-length\, timed practice tests&nbsp\; &nbsp\; &nbsp\; &nbsp\; &nbsp\;<br />\n<br />\nRegistration is under way for test prep sessions\, so call today!<br />\n<br />\nPREPARE FOR TOMORROW&nbsp\; &nbsp\; &nbsp\;The Path to College Success Starts Here
LOCATION:Sylvan Learning of Greenville 1925 Turnbury Dr.\, Suite B Greenville\, NC 27858
UID:e.840.8667
SEQUENCE:3
DTSTAMP:20260423T074903Z
URL:https://business.greenvillenc.org/events/details/sylvan-learning-sat-bootcamp-8667
END:VEVENT

END:VCALENDAR
