BEGIN:VCALENDAR
VERSION:2.0
PRODID:-//ChamberMaster//Event Calendar 2.0//EN
METHOD:PUBLISH
X-PUBLISHED-TTL:P3D
REFRESH-INTERVAL:P3D
CALSCALE:GREGORIAN
BEGIN:VEVENT
DTSTART:20171021T130000Z
DTEND:20171021T160000Z
X-MICROSOFT-CDO-ALLDAYEVENT:FALSE
SUMMARY:Sylvan Learning ACT Bootcamp
DESCRIPTION:Are you ready for the ACT ?\n\n\n\nThe college admissions process can be a nail-biting experience. (Bet it's stressful for your child\, too!) Our SylvanPrep for ACT  can help reduce your student's stress and increase test scores for one of the most important exams of his or her academic life. Students get:   skills and strategies needed to score high on the ACT   24/7 online access to thousands of video lessons   interactive vocabulary builder with hundreds of common ACT words   multiple full-length\, timed practice tests   flexible scheduling\n\n\n\nRegistration is under way for test prep sessions\, so call today!
X-ALT-DESC;FMTTYPE=text/html:Are you ready for the ACT&reg\;?<br />\n<br />\nThe college admissions process can be a nail-biting experience. (Bet it&rsquo\;s stressful for your child\, too!) Our SylvanPrep for ACT&reg\; can help reduce your student&rsquo\;s stress and increase test scores for one of the most important exams of his or her academic life. Students get: &bull\; skills and strategies needed to score high on the ACT &bull\; 24/7 online access to thousands of video lessons &bull\; interactive vocabulary builder with hundreds of common ACT words &bull\; multiple full-length\, timed practice tests &bull\; flexible scheduling<br />\n<br />\nRegistration is under way for test prep sessions\, so call today!
LOCATION:Sylvan Learning of Greenville 1925 Turnbury Dr.\, Suite B Greenville\, NC 27858
UID:e.840.8665
SEQUENCE:3
DTSTAMP:20260423T075002Z
URL:https://business.greenvillenc.org/events/details/sylvan-learning-act-bootcamp-8665
END:VEVENT

END:VCALENDAR
