BEGIN:VCALENDAR
VERSION:2.0
PRODID:-//ChamberMaster//Event Calendar 2.0//EN
METHOD:PUBLISH
X-PUBLISHED-TTL:P3D
REFRESH-INTERVAL:P3D
CALSCALE:GREGORIAN
BEGIN:VEVENT
DTSTART;VALUE=DATE:20190716
DTEND;VALUE=DATE:20190717
TRANSP:TRANSPARENT
X-MICROSOFT-CDO-ALLDAYEVENT:TRUE
SUMMARY:Summer Sale!! More Savings
DESCRIPTION:We are currently hosting our BIG Summer Sale!! Half of our store is 35% - 75% OFF\, and right now we are throwing in an ADDITIONAL 20% OFF Sale Items!! Come in and shop now before your favorite pieces are gone!
X-ALT-DESC;FMTTYPE=text/html:We are currently hosting our BIG Summer Sale!! Half of our store is 35% - 75% OFF\, and right now we are throwing in an ADDITIONAL 20% OFF Sale Items!! Come in and shop now before your favorite pieces are gone!
LOCATION:Votre Boutique 511 Red Banks Road Greenville\, NC 27858
UID:e.840.10335
SEQUENCE:3
DTSTAMP:20260420T134311Z
URL:https://business.greenvillenc.org/events/details/summer-sale-more-savings-10335
END:VEVENT

END:VCALENDAR
