BEGIN:VCALENDAR
VERSION:2.0
PRODID:-//ChamberMaster//Event Calendar 2.0//EN
METHOD:PUBLISH
X-PUBLISHED-TTL:P3D
REFRESH-INTERVAL:P3D
CALSCALE:GREGORIAN
BEGIN:VEVENT
DTSTART:20160616T190000Z
DTEND:20160616T220000Z
X-MICROSOFT-CDO-ALLDAYEVENT:FALSE
SUMMARY:Summer Open House - Cosmetology & Esthetics
DESCRIPTION:Come Anytime June 16th from 3pm-6pm\n\n\n\nTour Our Award Winning Facility.\n\nMeet Instructors\, Current Students\, and Graduates.\n\nLearn about a Career in Cosmetology or Esthetics.\n\nGet Enrollment Information.\n\nSee Hair Styling\, Skin Care\, and Makeup Demonstrations.\n\nLearn about Financial Aid and Financing.\n\n\n\nWe will be providing snacks and light refreshments and raffling off items including Alexander Paul Institute Gift Certificates\, Gift Certificates from Other Local Businesses\, and More!\n\n\n\nFor more information:\n\nhttps://www.facebook.com/events/258066904546683/\n\nCall 252-830-5536\n\n\n\nGainful Employment Disclosures: http://www.alexanderpaul.edu/GainfulEmployment/Gedt.html\n\nhttp://www.alexanderpaul.edu/GedtEst/Gedt.html
X-ALT-DESC;FMTTYPE=text/html:<span style="color:rgb(75\, 79\, 86)\; font-family:helvetica\,arial\,sans-serif\; font-size:14px">Come Anytime June 16th from 3pm-6pm</span><br />\n<br />\n<span style="color:rgb(75\, 79\, 86)\; font-family:helvetica\,arial\,sans-serif\; font-size:14px">Tour Our Award Winning Facility.</span><br />\n<span style="color:rgb(75\, 79\, 86)\; font-family:helvetica\,arial\,sans-serif\; font-size:14px">Meet Instructors\, Current Students\, and Graduates.</span><br />\n<span style="color:rgb(75\, 79\, 86)\; font-family:helvetica\,arial\,sans-serif\; font-size:14px">Learn about a Career in Cosmetology or Esthetics.</span><br />\n<span style="color:rgb(75\, 79\, 86)\; font-family:helvetica\,arial\,sans-serif\; font-size:14px">Get Enrollment Information.</span><br />\n<span style="color:rgb(75\, 79\, 86)\; font-family:helvetica\,arial\,sans-serif\; font-size:14px">See Hair Styling\, Skin Care\, and Makeup Demonstrations.</span><br />\n<span style="color:rgb(75\, 79\, 86)\; font-family:helvetica\,arial\,sans-serif\; font-size:14px">Learn about Financial Aid and Financing.</span><br />\n<br />\n<span style="color:rgb(75\, 79\, 86)\; font-family:helvetica\,arial\,sans-serif\; font-size:14px">We will be providing snacks and light refreshments and raffling off items including Alexander Paul Institute Gift Certificates\, Gift Certificates from Other Local Businesses\, and More!</span><br />\n<br />\n<span style="color:rgb(75\, 79\, 86)\; font-family:helvetica\,arial\,sans-serif\; font-size:14px">For more information:</span><br />\nhttps://www.facebook.com/events/258066904546683/<br />\n<span style="color:rgb(75\, 79\, 86)\; font-family:helvetica\,arial\,sans-serif\; font-size:14px">Call 252-830-5536<br />\n<br />\nGainful Employment Disclosures:&nbsp\;<a href="http://www.alexanderpaul.edu/GainfulEmployment/Gedt.html" rel="nofollow nofollow" style="color: rgb(54\, 88\, 153)\; cursor: pointer\; text-decoration: none\;" target="_blank">http://www.alexanderpaul.edu/GainfulEmployment/Gedt.html</a><br />\n<a href="http://www.alexanderpaul.edu/GedtEst/Gedt.html" rel="nofollow nofollow" style="color: rgb(54\, 88\, 153)\; cursor: pointer\; text-decoration: none\;" target="_blank">http://www.alexanderpaul.edu/GedtEst/Gedt.html</a></span>
LOCATION:Alexander Paul Institute of Hair Design 1011 Charles Blvd Ste A Greenville\, NC 27858
UID:e.840.2692
SEQUENCE:3
DTSTAMP:20260424T083353Z
URL:https://business.greenvillenc.org/events/details/summer-open-house-cosmetology-esthetics-06-16-2016-2692
END:VEVENT

END:VCALENDAR
