BEGIN:VCALENDAR
VERSION:2.0
PRODID:-//ChamberMaster//Event Calendar 2.0//EN
METHOD:PUBLISH
X-PUBLISHED-TTL:P3D
REFRESH-INTERVAL:P3D
CALSCALE:GREGORIAN
BEGIN:VEVENT
DTSTART;VALUE=DATE:20180612
DTEND;VALUE=DATE:20180613
TRANSP:TRANSPARENT
X-MICROSOFT-CDO-ALLDAYEVENT:TRUE
SUMMARY:Summer Camps - Pitt Community College
DESCRIPTION:Pitt Community College still has spots open for summer camps! Camps include STEM\, Music\, Outdoor\, and Gaming. Registration is ongoing! Check out our website for a full listing!
X-ALT-DESC;FMTTYPE=text/html:Pitt Community College still has spots open for summer camps! Camps include STEM\, Music\, Outdoor\, and Gaming. Registration is ongoing! Check out our website for a full listing!&nbsp\;
LOCATION:
UID:e.840.8873
SEQUENCE:3
DTSTAMP:20260421T074709Z
URL:https://business.greenvillenc.org/events/details/summer-camps-pitt-community-college-8873
END:VEVENT

END:VCALENDAR
