BEGIN:VCALENDAR
VERSION:2.0
PRODID:-//ChamberMaster//Event Calendar 2.0//EN
METHOD:PUBLISH
X-PUBLISHED-TTL:P3D
REFRESH-INTERVAL:P3D
CALSCALE:GREGORIAN
BEGIN:VEVENT
DTSTART:20140326T133000Z
DTEND:20140326T180000Z
X-MICROSOFT-CDO-ALLDAYEVENT:FALSE
SUMMARY:Suddenlink Communications is Hiring Door-to-Door Sales Professionals
DESCRIPTION:Registration begins at 9:30 a.m.\n\n \n\n \n\nGeneral Information Session at 10 a.m.\n  \n\n \n\nInterviews from 11 a.m. - 2 p.m.\n\n \n \n\n Earn up to $70\,000!  \n \n\nSuddenlink is looking for a select group of sales professionals to join our elite Direct Sales team. We offer base pay\, plus commissions and incentive plans. Enjoy paid training\, vacation and personal days\, and take advantage of a great benefits package that includes health/dental/ life insurance\, 401k contributions\, and complimentary television and Internet in serviceable areas. \n\nWhere: Suddenlink Office \n\n2120 W. Arlington Blvd. \n\nGreenville\, NC 27834 \n\nWanted: Direct Sales Representatives \n\n  Contacts customers in person to offer \n\nSuddenlink's state-of-the-art services. \n\n  Circulates among potential customers\, \n\nor travels by foot/automobile\, to sell Suddenlink residential services. \n\n  Explains products or services and prices and demonstrates use of products. \n\n  Writes orders for products or enters orders into computer and/or phone. \n\n  Must have a valid driver's license and be insurable. \n\n  Ability to work evenings and weekends. \n\n  To see the full job description and to apply\, go to www.work4suddenlink.com. \n\nYOU MUST RSVP BY 3/25/14 TO TRACY BASS TO ATTEND! \n\nEmail tracy.bass@suddenlink.com OR call 252-757-2212 \n\nYou may also apply online at www.work4suddenlink.com and apply to the positions listed there   make sure to include in your cover letter that you want to attend the General Information Session.
X-ALT-DESC;FMTTYPE=text/html:<p><span style="display: none\;">&nbsp\;</span><span style="display: none\;">&nbsp\;</span><font color="#000000" face="Times New Roman" size="3"> </font></p>\n\n<p align="center" class="MsoNormal" style="margin: 0in 0in 0pt\; text-align: center\;"><span style="font-size: 14pt\;"><font color="#000000">Registration begins at 9:30 a.m.<o:p></o:p></font></span></p>\n\n<p>&nbsp\;</p>\n\n<p align="center" class="MsoNormal" style="margin: 0in 0in 0pt\; text-align: center\;">&nbsp\;</p>\n\n<p align="center" class="MsoNormal" style="margin: 0in 0in 0pt\; text-align: center\;"><span style="font-size: 14pt\;"><font color="#000000">General Information Session at 10 a.m.<o:p></o:p></font></span></p>\n&nbsp\;&nbsp\;\n\n<p>&nbsp\;</p>\n\n<p align="center" class="MsoNormal" style="margin: 0in 0in 0pt\; text-align: center\;"><span style="font-size: 14pt\;"><font color="#000000">Interviews from 11 a.m. - 2 p.m.<o:p></o:p></font></span></p>\n\n<p>&nbsp\;</p>\n<span style="display: none\;">&nbsp\;</span>\n\n<p align="CENTER"><b><font color="#221e1f" size="6"><font color="#221e1f" size="6"><span id="cke_bm_98S" style="display: none\;">&nbsp\;</span>Earn up to $70\,000!<span id="cke_bm_98E" style="display: none\;">&nbsp\;</span> </font></font></b></p>\n<span style="display: none\;">&nbsp\;</span>\n\n<p align="JUSTIFY"><font color="#221e1f" face="DINOT\,DINOT" size="3"><font color="#221e1f" face="DINOT\,DINOT" size="3"><font color="#221e1f" face="DINOT\,DINOT" size="3">Suddenlink is looking for a select group of sales professionals to join our elite Direct Sales team. We offer </font></font></font><u><font color="#221e1f" face="DINOT-Medium\,DINOT-Medium" size="3"><font color="#221e1f" face="DINOT-Medium\,DINOT-Medium" size="3"><font color="#221e1f" face="DINOT-Medium\,DINOT-Medium" size="3">base pay\, plus commissions and incentive plans</font></font></font></u><font color="#221e1f" face="DINOT\,DINOT" size="3"><font color="#221e1f" face="DINOT\,DINOT" size="3"><font color="#221e1f" face="DINOT\,DINOT" size="3">. Enjoy paid training\, vacation and personal days\, and take advantage of a great benefits package that includes health/dental/ life insurance\, 401k contributions\, and complimentary television and Internet in serviceable areas. </font></font></font></p>\n\n<p><font color="#0053a4" size="3"><font color="#0053a4" size="3"><b>Where: </b></font></font><font color="#221e1f" face="DINOT\,DINOT" size="2"><font color="#221e1f" face="DINOT\,DINOT" size="2"><font color="#221e1f" face="DINOT\,DINOT" size="2">Suddenlink Office </font></font></font></p>\n\n<p><font color="#221e1f" face="DINOT\,DINOT" size="2"><font color="#221e1f" face="DINOT\,DINOT" size="2"><font color="#221e1f" face="DINOT\,DINOT" size="2">2120 W. Arlington Blvd. </font></font></font></p>\n\n<p><font size="2">Greenville\, NC 27834 </font></p>\n\n<p><font color="#0053a4" size="3"><font color="#0053a4" size="3"><b>Wanted: </b></font></font><font color="#221e1f" face="DINOT\,DINOT" size="2"><font color="#221e1f" face="DINOT\,DINOT" size="2"><font color="#221e1f" face="DINOT\,DINOT" size="2">Direct Sales Representatives </font></font></font></p>\n\n<p><font color="#221e1f" face="DINOT\,DINOT" size="1"><font color="#221e1f" face="DINOT\,DINOT" size="1"><font color="#221e1f" face="DINOT\,DINOT" size="1">&bull\; Contacts customers in person to offer </font></font></font></p>\n\n<p><font color="#221e1f" face="DINOT\,DINOT" size="1"><font color="#221e1f" face="DINOT\,DINOT" size="1"><font color="#221e1f" face="DINOT\,DINOT" size="1">Suddenlink&rsquo\;s state-of-the-art services. </font></font></font></p>\n\n<p><font color="#221e1f" face="DINOT\,DINOT" size="1"><font color="#221e1f" face="DINOT\,DINOT" size="1"><font color="#221e1f" face="DINOT\,DINOT" size="1">&bull\; Circulates among potential customers\, </font></font></font></p>\n\n<p><font color="#221e1f" face="DINOT\,DINOT" size="1"><font color="#221e1f" face="DINOT\,DINOT" size="1"><font color="#221e1f" face="DINOT\,DINOT" size="1">or travels by foot/automobile\, to sell Suddenlink residential services. </font></font></font></p>\n\n<p><font color="#221e1f" face="DINOT\,DINOT" size="1"><font color="#221e1f" face="DINOT\,DINOT" size="1"><font color="#221e1f" face="DINOT\,DINOT" size="1">&bull\; Explains products or services and prices and demonstrates use of products. </font></font></font></p>\n\n<p><font color="#221e1f" face="DINOT\,DINOT" size="1"><font color="#221e1f" face="DINOT\,DINOT" size="1"><font color="#221e1f" face="DINOT\,DINOT" size="1">&bull\; Writes orders for products or enters orders into computer and/or phone. </font></font></font></p>\n\n<p><font color="#221e1f" face="DINOT\,DINOT" size="1"><font color="#221e1f" face="DINOT\,DINOT" size="1"><font color="#221e1f" face="DINOT\,DINOT" size="1">&bull\; Must have a valid driver&rsquo\;s license and be insurable. </font></font></font></p>\n\n<p><font color="#221e1f" face="DINOT\,DINOT" size="1"><font color="#221e1f" face="DINOT\,DINOT" size="1"><font color="#221e1f" face="DINOT\,DINOT" size="1">&bull\; Ability to work evenings and weekends. </font></font></font></p>\n\n<p><font color="#221e1f" face="DINOT\,DINOT" size="1"><font color="#221e1f" face="DINOT\,DINOT" size="1"><font color="#221e1f" face="DINOT\,DINOT" size="1">&bull\; To see the full job description and to apply\, go to </font></font></font><b><font color="#221e1f" face="DINOT-Bold\,DINOT-Bold" size="1"><font color="#221e1f" face="DINOT-Bold\,DINOT-Bold" size="1"><font color="#221e1f" face="DINOT-Bold\,DINOT-Bold" size="1">www.work4suddenlink.com</font></font></font></b><font color="#221e1f" face="DINOT\,DINOT" size="1"><font color="#221e1f" face="DINOT\,DINOT" size="1"><font color="#221e1f" face="DINOT\,DINOT" size="1">. </font></font></font></p>\n\n<p><b><font color="#0053a4" size="3"><font color="#0053a4" size="3">YOU MUST RSVP BY 3/25/14 TO TRACY BASS TO ATTEND! </font></font></b></p>\n\n<p><font color="#0053a4" face="DINOT\,DINOT" size="4"><font color="#0053a4" face="DINOT\,DINOT" size="4"><font color="#0053a4" face="DINOT\,DINOT" size="4">Email </font></font></font><b><font color="#54b946" size="4"><font color="#54b946" size="4">tracy.bass</font></font><font color="#54b946" face="HelveticaNeueLT Std Blk Ext\,HelveticaNeueLT Std Blk Ext" size="4"><font color="#54b946" face="HelveticaNeueLT Std Blk Ext\,HelveticaNeueLT Std Blk Ext" size="4"><font color="#54b946" face="HelveticaNeueLT Std Blk Ext\,HelveticaNeueLT Std Blk Ext" size="4">@</font></font></font><font color="#54b946" size="4"><font color="#54b946" size="4">suddenlink.com </font></font></b><font color="#0053a4" face="DINOT\,DINOT" size="4"><font color="#0053a4" face="DINOT\,DINOT" size="4"><font color="#0053a4" face="DINOT\,DINOT" size="4">OR call </font></font></font><b><font color="#54b946" size="4"><font color="#54b946" size="4">252-757-2212 </font></font></b></p>\n\n<p><font color="#0053a4" face="DINOT\,DINOT" size="2"><font color="#0053a4" face="DINOT\,DINOT" size="2"><font color="#0053a4" face="DINOT\,DINOT" size="2">You may also apply online at </font></font></font><b><font color="#54b946" size="2"><font color="#54b946" size="2">www.work4suddenlink.com </font></font></b><font color="#0053a4" face="DINOT\,DINOT" size="2"><font color="#0053a4" face="DINOT\,DINOT" size="2"><font color="#0053a4" face="DINOT\,DINOT" size="2">and apply to the positions listed there &mdash\; make sure to include in your cover letter that you want to attend the General Information Session. </font></font></font></p>\n
LOCATION:2120 W. Arlington Blvd. Greenville\, NC 27834
UID:e.840.539
SEQUENCE:3
DTSTAMP:20260426T034726Z
URL:https://business.greenvillenc.org/events/details/suddenlink-communications-is-hiring-door-to-door-sales-professionals-03-26-2014-539
END:VEVENT

END:VCALENDAR
