BEGIN:VCALENDAR
VERSION:2.0
PRODID:-//ChamberMaster//Event Calendar 2.0//EN
METHOD:PUBLISH
X-PUBLISHED-TTL:P3D
REFRESH-INTERVAL:P3D
CALSCALE:GREGORIAN
BEGIN:VEVENT
DTSTART:20190529T220000Z
DTEND:20190530T000000Z
X-MICROSOFT-CDO-ALLDAYEVENT:FALSE
SUMMARY:Styling Workshop
DESCRIPTION:Join us for our styling workshop at Votre Boutique. We will be offering styling demonstrations\, tips\, tricks\, and consultations. Bring in pieces you've been struggling to pair into a killer outfit\; we can help!! We will be offering refreshments during the workshop. The floor will be open for shopping as well. \n\n\n\nPlease reserve your spot by calling 252.689.6288 or e-mailing votrebtq@gmail.com
X-ALT-DESC;FMTTYPE=text/html:Join us for our styling workshop at Votre Boutique. We will be offering styling demonstrations\, tips\, tricks\, and consultations. Bring in pieces you&#39\;ve been struggling to pair into a killer outfit\; we can help!! We will be offering refreshments during the workshop. The floor will be open for shopping as well.&nbsp\;<br />\n<br />\nPlease reserve your spot by calling 252.689.6288 or e-mailing votrebtq@gmail.com
LOCATION:Votre Boutique 511 Red Banks Road Suite F Greenville\, NC 27858
UID:e.840.10054
SEQUENCE:3
DTSTAMP:20260420T162652Z
URL:https://business.greenvillenc.org/events/details/styling-workshop-10054
END:VEVENT

END:VCALENDAR
