BEGIN:VCALENDAR
VERSION:2.0
PRODID:-//ChamberMaster//Event Calendar 2.0//EN
METHOD:PUBLISH
X-PUBLISHED-TTL:P3D
REFRESH-INTERVAL:P3D
CALSCALE:GREGORIAN
BEGIN:VEVENT
DTSTART;VALUE=DATE:20191127
DTEND;VALUE=DATE:20191202
TRANSP:TRANSPARENT
X-MICROSOFT-CDO-ALLDAYEVENT:TRUE
SUMMARY:Stumpy'sThanksgiving Week Specials!
DESCRIPTION:Wednesday\, November 27: AXEGiving Night! 5pm ? 10pm: Free $25 Gift Card Raffle\n\nThursday\, November 28: Closed\n\nFriday\, November 29: Black Friday! 12pm ? 2pm: 50% Off Gift Cards / 20% Off Throwing\n\nSaturday\, November 30: Chop Local! 2pm ? 12am: 25% Off Gift Cards & Throwing\n\nSunday\, December 1: Sunday Funday! 2pm ? 8pm: Finish the Week With Hatchet Therapy
X-ALT-DESC;FMTTYPE=text/html:<strong><span style="font-family:helvetica\,sans-serif\;"><span style="font-size:10.5pt\;">Wednesday\, November 27: AXEGiving Night! </span></span></strong><span style="font-family:helvetica\,sans-serif\;"><span style="font-size:10.5pt\;">5pm ? 10pm: Free $25 Gift Card Raffle</span></span><br />\n<strong><span style="font-family:helvetica\,sans-serif\;"><span style="font-size:10.5pt\;">Thursday\, November 28: </span></span></strong><span style="font-family:helvetica\,sans-serif\;"><span style="font-size:10.5pt\;">Closed</span></span><br />\n<strong><span style="font-family:helvetica\,sans-serif\;"><span style="font-size:10.5pt\;">Friday\, November 29: Black Friday! </span></span></strong><span style="font-family:helvetica\,sans-serif\;"><span style="font-size:10.5pt\;">12pm ? 2pm: 50% Off Gift Cards / 20% Off Throwing</span></span><br />\n<strong><span style="font-family:helvetica\,sans-serif\;"><span style="font-size:10.5pt\;">Saturday\, November 30: Chop Local! </span></span></strong><span style="font-family:helvetica\,sans-serif\;"><span style="font-size:10.5pt\;">2pm ? 12am: 25% Off Gift Cards &amp\; Throwing</span></span><br />\n<strong><span style="font-family:helvetica\,sans-serif\;"><span style="font-size:10.5pt\;">Sunday\, December 1: Sunday Funday! </span></span></strong><span style="font-family:helvetica\,sans-serif\;"><span style="font-size:10.5pt\;">2pm ? 8pm: Finish the Week With Hatchet Therapy</span></span><br />\n&nbsp\;
LOCATION:Stumpy's Hatchet House 816 Dickinson Ave Greenville\, NC 27834-3150
UID:e.840.10933
SEQUENCE:3
DTSTAMP:20260420T060932Z
URL:https://business.greenvillenc.org/events/details/stumpy-sthanksgiving-week-specials-10933
END:VEVENT

END:VCALENDAR
