BEGIN:VCALENDAR
VERSION:2.0
PRODID:-//ChamberMaster//Event Calendar 2.0//EN
METHOD:PUBLISH
X-PUBLISHED-TTL:P3D
REFRESH-INTERVAL:P3D
CALSCALE:GREGORIAN
BEGIN:VEVENT
DTSTART;VALUE=DATE:20191114
DTEND;VALUE=DATE:20191115
TRANSP:TRANSPARENT
X-MICROSOFT-CDO-ALLDAYEVENT:TRUE
SUMMARY:Stumpy's College Night!
DESCRIPTION:November 14\, 2019: COLLEGE NIGHT! Learn to throw axes and have a party for half-price with a valid student ID. And don't forget your state/military ID because you must be 18+ to enter\, and must be 21+ for BYOB. Grab some friends\, snacks\, beer/wine (no liquor) and come on in! Coupon Code: COLLEGE50
X-ALT-DESC;FMTTYPE=text/html:<strong><u><span style="font-family:helvetica\,sans-serif\;"><span style="font-size:10.5pt\;">November 14\, 2019: COLLEGE NIGHT!</span></span></u></strong><span style="font-family:helvetica\,sans-serif\;"><span style="font-size:10.5pt\;"> Learn to throw axes and have a party for half-price with a valid student ID. And don&#39\;t forget your state/military ID because you must be 18+ to enter\, and must be 21+ for BYOB. Grab some friends\, snacks\, beer/wine (no liquor) and come on in!&nbsp\;<u>Coupon Code: COLLEGE50</u></span></span>
LOCATION:Stumpy's Hatchet House 816 Dickinson Ave Greenville\, NC 27834-3150 50
UID:e.840.10930
SEQUENCE:3
DTSTAMP:20260420T074433Z
URL:https://business.greenvillenc.org/events/details/stumpy-s-college-night-10930
END:VEVENT

END:VCALENDAR
