BEGIN:VCALENDAR
VERSION:2.0
PRODID:-//ChamberMaster//Event Calendar 2.0//EN
METHOD:PUBLISH
X-PUBLISHED-TTL:P3D
REFRESH-INTERVAL:P3D
CALSCALE:GREGORIAN
BEGIN:VEVENT
DTSTART:20191129T170000Z
DTEND:20191129T190000Z
X-MICROSOFT-CDO-ALLDAYEVENT:FALSE
SUMMARY:Stumpy's Black Friday Specials
DESCRIPTION:November 29\, 2019: BLACK FRIDAY SPECIALS! Our BIGGEST day of the year!  You've been shopping all morning and NEED some hatchet therapy! Lucky for you\, not only is throwing discounted\, but gift cards will be 50% off!  No Limit!  Come buy the perfect Christmas present! present!
X-ALT-DESC;FMTTYPE=text/html:<strong><u><span style="font-family:helvetica\,sans-serif\;"><span style="font-size:10.5pt\;">November 29\, 2019: BLACK FRIDAY SPECIALS!</span></span></u></strong><span style="font-family:helvetica\,sans-serif\;"><span style="font-size:10.5pt\;"> Our BIGGEST day of the year!&nbsp\; You&#39\;ve been shopping all morning and NEED some hatchet therapy! Lucky for you\, not only is throwing discounted\, but gift cards will be 50% off!&nbsp\; No Limit!&nbsp\; Come buy the perfect Christmas present! present!</span></span>
LOCATION:Stumpy's Hatchet House 816 Dickinson Ave Greenville\, NC 27834-3150
UID:e.840.10932
SEQUENCE:3
DTSTAMP:20260420T074445Z
URL:https://business.greenvillenc.org/events/details/stumpy-s-black-friday-specials-10932
END:VEVENT

END:VCALENDAR
