BEGIN:VCALENDAR
VERSION:2.0
PRODID:-//ChamberMaster//Event Calendar 2.0//EN
METHOD:PUBLISH
X-PUBLISHED-TTL:P3D
REFRESH-INTERVAL:P3D
CALSCALE:GREGORIAN
BEGIN:VEVENT
DTSTART:20191116T203000Z
DTEND:20191116T230000Z
X-MICROSOFT-CDO-ALLDAYEVENT:FALSE
SUMMARY:Stumpy's AXEGames
DESCRIPTION:November 16\, 2019: AXE GAMES! The most fun competition we host all year! Join our axe-throwing\, Olympic/Carnival style tournament.  Play card games\, match-games\, bust balloons\, and more by throwing axes! Fun for all skill-levels!
X-ALT-DESC;FMTTYPE=text/html:&nbsp\;<br />\n<strong><u><span style="font-family:helvetica\,sans-serif\;"><span style="font-size:10.5pt\;">November 16\, 2019: AXE GAMES!</span></span></u></strong><span style="font-family:helvetica\,sans-serif\;"><span style="font-size:10.5pt\;"> The most fun competition we host all year! Join our axe-throwing\, Olympic/Carnival style tournament.&nbsp\; Play card games\, match-games\, bust balloons\, and more by throwing axes! Fun for all skill-levels!</span></span>
LOCATION:Stumpy's Hatchet House 816 Dickinson Ave Greenville\, NC 27834-3150
UID:e.840.10931
SEQUENCE:3
DTSTAMP:20260420T074446Z
URL:https://business.greenvillenc.org/events/details/stumpy-s-axegames-10931
END:VEVENT

END:VCALENDAR
