BEGIN:VCALENDAR
VERSION:2.0
PRODID:-//ChamberMaster//Event Calendar 2.0//EN
METHOD:PUBLISH
X-PUBLISHED-TTL:P3D
REFRESH-INTERVAL:P3D
CALSCALE:GREGORIAN
BEGIN:VEVENT
DTSTART:20170914T223000Z
DTEND:20170915T010000Z
X-MICROSOFT-CDO-ALLDAYEVENT:FALSE
SUMMARY:STRIVE'S 17th Anniversary Gala
DESCRIPTION:Please join LIFE of NC and keynote speaker\, Daryl V. Atkinson\, the first Second Chance Fellow for the US Department of Justice (DOJ)\, in celebration of our STRIVE Program's 17th Anniversary. The event will be held Thursday\, September 14\, 2017 at 6:30pm at the Hilton Greenville. The evening will include dinner\, entertainment\, recognition of STRIVE's outstanding graduates and LIFE of NC Employer of the Year. Tickets are $40 per person.\n\n\n\nLIFE of NC is home to STRIVE\, a nationally recognized job readiness and attitudinal training program in which "the hardest to employ" individuals are taught skills necessary to seek gainful employment. \n\n\n\nTickets are available now for purchase at the STRIVE NC office located at 600 W. 3rd Street (Historic Third Street School Building). $40 per person.\n\n\n\nYour donations help our graduates prepare to work and become determined to succeed! For more information contact Joyce C. Jones at (252) 752-9774 or Geri Lassiter at (252) 752-2111. Or message us via Facebook.
X-ALT-DESC;FMTTYPE=text/html:<span style="background-color:rgb(255\, 255\, 255)\; color:rgb(75\, 79\, 86)\; font-family:helvetica\,arial\,sans-serif\; font-size:14px">Please join LIFE of NC and keynote speaker\, Daryl V. Atkinson\, the first Second Chance Fellow for the US Department of Justice (DOJ)\, in celebration of our STRIVE Program&#39\;s 17th Anniversary. The event will be held Thursday\, September 14\, 2017 at 6:30pm at the Hilton Greenville. The evening will include dinner\, entertainment\, recognition of STRIVE&#39\;s outstanding graduates and LIFE of NC Employer of the Year. Tickets are $40 per person.</span><br />\n<br />\n<span style="background-color:rgb(255\, 255\, 255)\; color:rgb(75\, 79\, 86)\; font-family:helvetica\,arial\,sans-serif\; font-size:14px">LIFE of NC is home to STRIVE\, a nationally recognized job readiness and attitudinal training program in which &quot\;the hardest to employ&quot\; individuals are taught skills necessary to seek gainful employment.&nbsp\;</span><br />\n<br />\n<span style="background-color:rgb(255\, 255\, 255)\; color:rgb(75\, 79\, 86)\; font-family:helvetica\,arial\,sans-serif\; font-size:14px">Tickets are available now for purchase at the STRIVE NC office located at 600 W. 3rd Street (Historic Third Street School Building). $40 per person.</span><br />\n<br />\n<span style="background-color:rgb(255\, 255\, 255)\; color:rgb(75\, 79\, 86)\; font-family:helvetica\,arial\,sans-serif\; font-size:14px">Your donations help our graduates prepare to work and become determined to succeed! For more information contact </span>Joyce C. Jones at (252) 752-9774 or Geri Lassiter at (252) 752-2111.<span style="background-color:rgb(255\, 255\, 255)\; color:rgb(75\, 79\, 86)\; font-family:helvetica\,arial\,sans-serif\; font-size:14px">&nbsp\;Or message us via Facebook.</span>
LOCATION:Greenville Hilton
UID:e.840.8646
SEQUENCE:3
DTSTAMP:20260423T104121Z
URL:https://business.greenvillenc.org/events/details/strive-s-17th-anniversary-gala-8646
END:VEVENT

END:VCALENDAR
