BEGIN:VCALENDAR
VERSION:2.0
PRODID:-//ChamberMaster//Event Calendar 2.0//EN
METHOD:PUBLISH
X-PUBLISHED-TTL:P3D
REFRESH-INTERVAL:P3D
CALSCALE:GREGORIAN
BEGIN:VEVENT
DTSTART:20160915T223000Z
DTEND:20160916T010000Z
X-MICROSOFT-CDO-ALLDAYEVENT:FALSE
SUMMARY:STRIVE's 16th Anniversary Gala
DESCRIPTION:
X-ALT-DESC;FMTTYPE=text/html:
LOCATION:Hilton Greenville
UID:e.840.2463
SEQUENCE:3
DTSTAMP:20260424T035249Z
URL:https://business.greenvillenc.org/events/details/strive-s-16th-anniversary-gala-09-15-2016-2463
END:VEVENT

END:VCALENDAR
