BEGIN:VCALENDAR
VERSION:2.0
PRODID:-//ChamberMaster//Event Calendar 2.0//EN
METHOD:PUBLISH
X-PUBLISHED-TTL:P3D
REFRESH-INTERVAL:P3D
CALSCALE:GREGORIAN
BEGIN:VEVENT
DTSTART;VALUE=DATE:20200314
DTEND;VALUE=DATE:20200315
TRANSP:TRANSPARENT
X-MICROSOFT-CDO-ALLDAYEVENT:TRUE
SUMMARY:Story Telling Hour!
DESCRIPTION:Please join us for a morning of food\, fun\, and a plane or two! All ages are welcome\, breakfast treats are provided. Let's read together!\n\n\n\nIn collaboration with Literacy Volunteers of Pitt County & Shepard Memorial Library
X-ALT-DESC;FMTTYPE=text/html:Please join us for a morning of food\, fun\, and a plane or two! All ages are welcome\, breakfast treats are provided. Let&#39\;s read together!<br />\n<br />\nIn collaboration with Literacy Volunteers of Pitt County &amp\; Shepard Memorial Library
LOCATION:Pitt-Greenville Airport\, 400 Airport Rd. Greenville\, NC
UID:e.840.11401
SEQUENCE:3
DTSTAMP:20260420T013538Z
URL:https://business.greenvillenc.org/events/details/story-telling-hour-11401
END:VEVENT

END:VCALENDAR
