BEGIN:VCALENDAR
VERSION:2.0
PRODID:-//ChamberMaster//Event Calendar 2.0//EN
METHOD:PUBLISH
X-PUBLISHED-TTL:P3D
REFRESH-INTERVAL:P3D
CALSCALE:GREGORIAN
BEGIN:VEVENT
DTSTART:20170516T220000Z
DTEND:20170517T000000Z
X-MICROSOFT-CDO-ALLDAYEVENT:FALSE
SUMMARY:Pitt County Coalition on Substance Abuse - Greenville STOP Series
DESCRIPTION:The Stop The Opioid Pandemic (STOP) is a grant funded project from the Vidant Health Foundation in partnership with the Pitt County Sheriff's Department.  This is a one night event that is hosted throughout Pitt County to education the community on opioids. The three different parts you will see presentations on are Opioids 101\, Personal Stories\, and Current Trends. \n\n	Opioids 101 will answer the questions - What are opioids? How do they help with pain? Why are they so addictive? What about genetics? Can I use something else for pain?\n	During the personal stories\, included are journeys of anguish\, hope\, love\, success and loss from local families along with learning about the role of enabling and local support groups. Discover why the role family and friends play in recovery is so important.\n	During current trends\, The Good Samaritan Law\, what Narcan is\, Law enforcement efforts\, and harm reduction will be covered.
X-ALT-DESC;FMTTYPE=text/html:The Stop The Opioid Pandemic (STOP) is a grant funded project from the Vidant Health Foundation in partnership with the Pitt County Sheriff&rsquo\;s Department.&nbsp\; This is a one night event that is hosted throughout Pitt County to education the community on opioids. The three different parts you will see presentations on are Opioids 101\, Personal Stories\, and Current Trends.&nbsp\;\n<ul>\n	<li>Opioids 101 will answer the questions - What are opioids? How do they help with pain? Why are they so addictive? What about genetics? Can I use something else for pain?</li>\n	<li>During the personal stories\, included are j<span style="color:black">ourneys of anguish\, hope\, love\, success and loss from local families along with learning about the role of enabling and local support groups. Discover why the role family and friends play in recovery is so important.</span></li>\n	<li><span style="color:black">During current trends\, The Good Samaritan Law\, what Narcan is\, Law enforcement efforts\, and harm reduction will be covered.&nbsp\;</span></li>\n</ul>\n
LOCATION:Jarvis Memorial United Methodist Church 510 South Washington Street Greenville\, NC 27858
UID:e.840.8497
SEQUENCE:3
DTSTAMP:20260423T152637Z
URL:https://business.greenvillenc.org/events/details/stop-the-opioid-pandemic-stop-session-8497
END:VEVENT

END:VCALENDAR
