BEGIN:VCALENDAR
VERSION:2.0
PRODID:-//ChamberMaster//Event Calendar 2.0//EN
METHOD:PUBLISH
X-PUBLISHED-TTL:P3D
REFRESH-INTERVAL:P3D
CALSCALE:GREGORIAN
BEGIN:VEVENT
DTSTART:20190530T131500Z
DTEND:20190530T143000Z
X-MICROSOFT-CDO-ALLDAYEVENT:FALSE
SUMMARY:Stop Summer Hunger Initiative Kick Off Event
DESCRIPTION:You're Invited to the 2019 Stop Summer Hunger Initiative Kick-Off Event to benefit the Food Bank of the Central & Eastern NC - Greenville Branch.  Food Bank will be recognizing people and organizations in our community who serve those in need and learn about the food distrubtion networks of the Food Bank CENC.  Light Breakfast and beverages served.  Join with WNCT 9 On Your Side News Anchor Ken Watling\, Stop Summer Hunger Regional Honorary Chair.\n\nFREE event - please RSVP
X-ALT-DESC;FMTTYPE=text/html:You&#39\;re Invited to the 2019 Stop Summer Hunger Initiative Kick-Off Event to benefit the Food Bank of the Central &amp\; Eastern NC - Greenville Branch.&nbsp\; Food Bank will be recognizing people and organizations in our community who serve those in need and learn about the food distrubtion networks of the Food Bank CENC.&nbsp\; Light Breakfast and beverages served.&nbsp\; Join with WNCT 9 On Your Side News Anchor Ken Watling\, Stop Summer Hunger Regional Honorary Chair.<br />\nFREE event - please RSVP
LOCATION:Vidant Health E.W. Monroe Center 2000 Venture Tower Drive Greenville\, NC
UID:e.840.10046
SEQUENCE:3
DTSTAMP:20260420T163005Z
URL:https://business.greenvillenc.org/events/details/stop-summer-hunger-initiative-kick-off-event-10046
END:VEVENT

END:VCALENDAR
