BEGIN:VCALENDAR
VERSION:2.0
PRODID:-//ChamberMaster//Event Calendar 2.0//EN
METHOD:PUBLISH
X-PUBLISHED-TTL:P3D
REFRESH-INTERVAL:P3D
CALSCALE:GREGORIAN
BEGIN:VEVENT
DTSTART:20190926T223000Z
DTEND:20190927T003000Z
X-MICROSOFT-CDO-ALLDAYEVENT:FALSE
SUMMARY:Startup Founder/Owner Happy Hour
DESCRIPTION:Hang with a crew of local entrepreneurs at Uptown Brewery! Whether you want to test a new idea\, celebrate a milestone reached\, or vent about startup challenges\, we're here to engage with you as only fellow entrepreneurs can. RSVP for free on EventBrite. All you have to bring is your A-game!\n\n\n\nhttps://www.eventbrite.com/e/startup-founder-happy-hour-tickets-72244706863
X-ALT-DESC;FMTTYPE=text/html:Hang with a crew of local entrepreneurs at Uptown Brewery! Whether you want to test a new idea\, celebrate a milestone reached\, or vent about startup challenges\, we&#39\;re here to engage with you as only fellow entrepreneurs can. RSVP for free on EventBrite. All you have to bring is your A-game!<br />\n<br />\nhttps://www.eventbrite.com/e/startup-founder-happy-hour-tickets-72244706863<br />\n&nbsp\;
LOCATION:Uptown Brewery 418 Evans Street Greenville\, NC 27858
UID:e.840.10781
SEQUENCE:3
DTSTAMP:20260420T104822Z
URL:https://business.greenvillenc.org/events/details/startup-founder-owner-happy-hour-10781
END:VEVENT

END:VCALENDAR
