BEGIN:VCALENDAR
VERSION:2.0
PRODID:-//ChamberMaster//Event Calendar 2.0//EN
METHOD:PUBLISH
X-PUBLISHED-TTL:P3D
REFRESH-INTERVAL:P3D
CALSCALE:GREGORIAN
BEGIN:VEVENT
DTSTART:20170107T000000Z
DTEND:20170107T030000Z
X-MICROSOFT-CDO-ALLDAYEVENT:FALSE
SUMMARY:Starry Night
DESCRIPTION:Enjoy the planetarium presentation "Back to the Moon for Good" in the Chia-yu Li Planetarium. Then view the beauties of a starry night where city lights don't interfere.
X-ALT-DESC;FMTTYPE=text/html:Enjoy the planetarium presentation &ldquo\;Back to the Moon for Good&rdquo\; in the Chia-yu Li Planetarium. Then view the beauties of a starry night where city lights don&rsquo\;t interfere.
LOCATION:A Time for Science Nature and Science Learning Center 949 Contentnea Lane\, Grifton NC 28530. ATFS is located off Highway 11 between Ayden and Grifton in Contentnea Creek Estates.
UID:e.840.7774
SEQUENCE:3
DTSTAMP:20260423T204425Z
URL:https://business.greenvillenc.org/events/details/starry-night-7774
END:VEVENT

END:VCALENDAR
