BEGIN:VCALENDAR
VERSION:2.0
PRODID:-//ChamberMaster//Event Calendar 2.0//EN
METHOD:PUBLISH
X-PUBLISHED-TTL:P3D
REFRESH-INTERVAL:P3D
CALSCALE:GREGORIAN
BEGIN:VEVENT
DTSTART:20201205T140000Z
DTEND:20201206T020000Z
X-MICROSOFT-CDO-ALLDAYEVENT:FALSE
SUMMARY:St. Paul's Nineteenth Annual Christmas Homes Tour Benefiting Community Crossroads Center
DESCRIPTION:A virtual one-hour tour - 9 a.m. to 9 p.m. (stream at your convenience)\n\n     The virtual tour will be available through a link that will be sent to you once you purchase your tickets. Tickets are $25.  Please visit http://stpaulsepiscopal.com/christmas-homes-tour.html to purchase your tickets.\n\n     Gather your friends and family who are in your "bubble." Then\, sit back and enjoy the tour from the comfort of your home.\n\n     These homes are not to be missed!
X-ALT-DESC;FMTTYPE=text/html:<p>A virtual one-hour tour - 9 a.m. to 9 p.m. (stream at your convenience)</p>\n\n<p>&nbsp\; &nbsp\; &nbsp\;The virtual tour will be available through a link that will be sent to you once you purchase your tickets. Tickets are $25.&nbsp\; Please visit&nbsp\;<a href="http://stpaulsepiscopal.com/christmas-homes-tour.html">http://stpaulsepiscopal.com/christmas-homes-tour.html</a> to purchase your tickets.</p>\n\n<p>&nbsp\; &nbsp\; &nbsp\;Gather your friends and family who are in your &ldquo\;bubble.&rdquo\; Then\, sit back and enjoy the tour from the comfort of your home.<br />\n&nbsp\; &nbsp\; &nbsp\;These homes are not to be missed!</p>\n
LOCATION:Virtual Home Tour
UID:e.840.12652
SEQUENCE:3
DTSTAMP:20260419T120716Z
URL:https://business.greenvillenc.org/events/details/st-paul-s-nineteenth-annual-christmas-homes-tour-benefiting-community-crossroads-center-12652
END:VEVENT

END:VCALENDAR
