BEGIN:VCALENDAR
VERSION:2.0
PRODID:-//ChamberMaster//Event Calendar 2.0//EN
METHOD:PUBLISH
X-PUBLISHED-TTL:P3D
REFRESH-INTERVAL:P3D
CALSCALE:GREGORIAN
BEGIN:VEVENT
DTSTART:20161022T140000Z
DTEND:20161022T230000Z
X-MICROSOFT-CDO-ALLDAYEVENT:FALSE
SUMMARY:Sprint Says Thanks Event
DESCRIPTION:Sprint Says Thanks\n\nCustomer appreciation event for our current and potential customers\n\nCome join us for games\, entertainment\, refreshments\, discounts and bundles
X-ALT-DESC;FMTTYPE=text/html:Sprint Says Thanks<br />\nCustomer appreciation event for our current and potential customers<br />\nCome join us for games\, entertainment\, refreshments\, discounts and bundles
LOCATION:740 West Firetower road Winterville\, NC 28590
UID:e.840.6286
SEQUENCE:3
DTSTAMP:20260424T010144Z
URL:https://business.greenvillenc.org/events/details/sprint-says-thanks-event-6286
END:VEVENT

END:VCALENDAR
