BEGIN:VCALENDAR
VERSION:2.0
PRODID:-//ChamberMaster//Event Calendar 2.0//EN
METHOD:PUBLISH
X-PUBLISHED-TTL:P3D
REFRESH-INTERVAL:P3D
CALSCALE:GREGORIAN
BEGIN:VEVENT
DTSTART:20161014T140000Z
DTEND:20161021T230000Z
X-MICROSOFT-CDO-ALLDAYEVENT:FALSE
SUMMARY:Sprint by N Touch Wireless Hurricane Matthew food drive
DESCRIPTION:Sprint by N Touch Wireless is collecting food for Hurricane Matthew relief
X-ALT-DESC;FMTTYPE=text/html:Sprint by N Touch Wireless is collecting food for Hurricane Matthew relief
LOCATION:740 W Fire Tower Rd Winterville\, NC 28590
UID:e.840.6289
SEQUENCE:3
DTSTAMP:20260424T023104Z
URL:https://business.greenvillenc.org/events/details/sprint-by-n-touch-wireless-hurricane-matthew-food-drive-6289
END:VEVENT

END:VCALENDAR
