BEGIN:VCALENDAR
VERSION:2.0
PRODID:-//ChamberMaster//Event Calendar 2.0//EN
METHOD:PUBLISH
X-PUBLISHED-TTL:P3D
REFRESH-INTERVAL:P3D
CALSCALE:GREGORIAN
BEGIN:VEVENT
DTSTART:20161214T200000Z
DTEND:20161214T230000Z
X-MICROSOFT-CDO-ALLDAYEVENT:FALSE
SUMMARY:SpringShire Holiday Open House
DESCRIPTION:Come and learn more about what is happening with SpringShire\, Greenville's exciting new retirement community. Information Center will be open and Sales Associates will be available to answer more questions. Enjoy holiday treats and spiced cider!
X-ALT-DESC;FMTTYPE=text/html:Come and learn more about what is happening with SpringShire\, Greenville&#39\;s exciting new retirement community. Information Center will be open and Sales Associates will be available to answer more questions. Enjoy holiday treats and spiced cider!
LOCATION:3404 NC-43 North
UID:e.840.7708
SEQUENCE:3
DTSTAMP:20260423T233252Z
URL:https://business.greenvillenc.org/events/details/springshire-holiday-open-house-7708
END:VEVENT

END:VCALENDAR
