BEGIN:VCALENDAR
VERSION:2.0
PRODID:-//ChamberMaster//Event Calendar 2.0//EN
METHOD:PUBLISH
X-PUBLISHED-TTL:P3D
REFRESH-INTERVAL:P3D
CALSCALE:GREGORIAN
BEGIN:VEVENT
DTSTART:20190411T220000Z
DTEND:20190412T000000Z
X-MICROSOFT-CDO-ALLDAYEVENT:FALSE
SUMMARY:Spring Fling at Postal Annex!
DESCRIPTION:Trades of Hope is a fair trade certified company whose mission is to empower women all over the world through job creation. Our artisans are recovered victims of trafficking\, poverty\, addiction\, abuse\, and more. We're more than just a jewelry company. Our handmade home decor\, journals\, and handbags bring an extra flare to our line. \n\nThe hostess rewards will go towards purchasing necklaces for the GLAM & Glitter Gala! (Fundraiser for Daughters of Worth) GLAM Girl winners! \n\nCan't make it\, but want to support the cause? Shop here:\n\nhttp://bit.ly/PASpringParty
X-ALT-DESC;FMTTYPE=text/html:<span style="background-color:rgb(255\, 255\, 255)\; color:rgb(29\, 33\, 41)\; font-family:helvetica\,arial\,sans-serif\; font-size:14px">Trades of Hope is a fair trade certified company whose mission is to empower women all over the world through job creation. Our artisans are recovered victims of trafficking\, poverty\, addiction\, abuse\, and more. We&#39\;re more than just a jewelry company. Our handmade home decor\, journals\, and handbags bring an extra flare to our line. </span><br />\n<span style="background-color:rgb(255\, 255\, 255)\; color:rgb(29\, 33\, 41)\; font-family:helvetica\,arial\,sans-serif\; font-size:14px">The hostess rewards will go towards purchasing necklaces for the </span><a href="https://www.facebook.com/events/1012783548912587/" style="color: rgb(54\, 88\, 153)\; cursor: pointer\; text-decoration-line: none\; font-family: Helvetica\, Arial\, sans-serif\; font-size: 14px\; white-space: pre-wrap\; background-color: rgb(255\, 255\, 255)\;" target="_blank">GLAM &amp\; Glitter Gala! (Fundraiser for Daughters of Worth)</a><span style="background-color:rgb(255\, 255\, 255)\; color:rgb(29\, 33\, 41)\; font-family:helvetica\,arial\,sans-serif\; font-size:14px"> GLAM Girl winners! </span><br />\n<span style="background-color:rgb(255\, 255\, 255)\; color:rgb(29\, 33\, 41)\; font-family:helvetica\,arial\,sans-serif\; font-size:14px">Can&#39\;t make it\, but want to support the cause? Shop here:</span><br />\n<a href="https://bit.ly/PASpringParty?fbclid=IwAR04Z7wk_P63ZbSIif7SPpxFdmVzpNM4h2zkQks5Uos0VqxWBHoUzRg0qXU" rel="nofollow noopener" style="color: rgb(54\, 88\, 153)\; cursor: pointer\; text-decoration-line: none\; font-family: Helvetica\, Arial\, sans-serif\; font-size: 14px\; white-space: pre-wrap\; background-color: rgb(255\, 255\, 255)\;" target="_blank">http://bit.ly/PASpringParty</a>
LOCATION:PostalAnnex+ 2120 E Fire Tower Rd #107\, Greenville\, North Carolina 27858
UID:e.840.9777
SEQUENCE:3
DTSTAMP:20260420T173643Z
URL:https://business.greenvillenc.org/events/details/spring-fling-at-postal-annex-9777
END:VEVENT

END:VCALENDAR
