BEGIN:VCALENDAR
VERSION:2.0
PRODID:-//ChamberMaster//Event Calendar 2.0//EN
METHOD:PUBLISH
X-PUBLISHED-TTL:P3D
REFRESH-INTERVAL:P3D
CALSCALE:GREGORIAN
BEGIN:VEVENT
DTSTART:20170218T124500Z
DTEND:20170218T190000Z
X-MICROSOFT-CDO-ALLDAYEVENT:FALSE
SUMMARY:Spring Day of Dance
DESCRIPTION:Classes in ballet\, modern\, jazz\, and tap designed for 10-11 year olds\, 12-13 year olds\, and 14 years old and older.
X-ALT-DESC;FMTTYPE=text/html:Classes in ballet\, modern\, jazz\, and tap designed for 10-11 year olds\, 12-13 year olds\, and 14 years old and older.
LOCATION:Messick Theatre Arts Center Greenville\, NC 27858-4353
UID:e.840.7843
SEQUENCE:3
DTSTAMP:20260423T210850Z
URL:https://business.greenvillenc.org/events/details/spring-day-of-dance-7843
END:VEVENT

END:VCALENDAR
