BEGIN:VCALENDAR
VERSION:2.0
PRODID:-//ChamberMaster//Event Calendar 2.0//EN
METHOD:PUBLISH
X-PUBLISHED-TTL:P3D
REFRESH-INTERVAL:P3D
CALSCALE:GREGORIAN
BEGIN:VEVENT
DTSTART:20170429T160000Z
DTEND:20170429T200000Z
X-MICROSOFT-CDO-ALLDAYEVENT:FALSE
SUMMARY:Spring Carnival!
DESCRIPTION:Join us at Ignite Innovation Academy's Spring Carnival for carnival games\, snow cones\, raffle prizes\, inflatables\, a petting zoo\, great food and a good time!\n\n\n\nIgnite welcomes you to come see one of Greenville's Newest Charter Schools.\n\n-FREE TUITION\n\n-No Uniforms\n\n-Bus Transportation\n\n-Water Safety Class\n\n-After School Program\n\n-Enrolling Now for 2017-2018 K-7\n\n-Students ger thier own Chrome Book\n\n-STEM Program\n\n\n\nTHANK YOU FOR SUPPORTING THE KIDS!!!
X-ALT-DESC;FMTTYPE=text/html:&nbsp\;Join us at Ignite Innovation Academy&#39\;s Spring Carnival for carnival games\, snow cones\, raffle prizes\, inflatables\, a petting zoo\, great food and a good time!<br />\n<br />\nIgnite welcomes you to come see one of Greenville&#39\;s Newest Charter Schools.<br />\n<u><strong>-FREE TUITION</strong></u><br />\n-No Uniforms<br />\n-Bus Transportation<br />\n-Water Safety Class<br />\n-After School Program<br />\n<u><strong>-Enrolling Now for 2017-2018 K-7</strong></u><br />\n-Students ger thier own Chrome Book<br />\n-STEM Program<br />\n<br />\nTHANK YOU FOR SUPPORTING THE KIDS!!!
LOCATION:901 Staton Road Greenville\, NC 27834
UID:e.840.8084
SEQUENCE:3
DTSTAMP:20260423T164204Z
URL:https://business.greenvillenc.org/events/details/spring-carnival-8084
END:VEVENT

END:VCALENDAR
