BEGIN:VCALENDAR
VERSION:2.0
PRODID:-//ChamberMaster//Event Calendar 2.0//EN
METHOD:PUBLISH
X-PUBLISHED-TTL:P3D
REFRESH-INTERVAL:P3D
CALSCALE:GREGORIAN
BEGIN:VEVENT
DTSTART:20170812T130000Z
DTEND:20170812T160000Z
X-MICROSOFT-CDO-ALLDAYEVENT:FALSE
SUMMARY:Sports Physicals and Immunization Clinic
DESCRIPTION:Sports physicals are $25 and immunizations are based on a sliding fee scale
X-ALT-DESC;FMTTYPE=text/html:Sports physicals are $25 and immunizations are based on a sliding fee scale
LOCATION:James D. Bernstein Community Health Center\, 261 Belvoir Highway\, Greenville
UID:e.840.8642
SEQUENCE:3
DTSTAMP:20260423T111409Z
URL:https://business.greenvillenc.org/events/details/sports-physicals-and-immunization-clinic-8642
END:VEVENT

END:VCALENDAR
