BEGIN:VCALENDAR
VERSION:2.0
PRODID:-//ChamberMaster//Event Calendar 2.0//EN
METHOD:PUBLISH
X-PUBLISHED-TTL:P3D
REFRESH-INTERVAL:P3D
CALSCALE:GREGORIAN
BEGIN:VEVENT
DTSTART:20190323T153000Z
DTEND:20190323T170000Z
X-MICROSOFT-CDO-ALLDAYEVENT:FALSE
SUMMARY:Spectacular Sips & Sampling Brunch
DESCRIPTION:Spectacular Sips & Sampling Brunch event this Saturday\, 3/23 at 1130 am.  You can make your reservations at Reservations.BonefishGrill.com  It's $25 a person for an amazing amount of different brunch samples and $5 Mimosa's.
X-ALT-DESC;FMTTYPE=text/html:<span style="color:#000000"><span style="background-color:rgb(255\, 255\, 255)\; font-family:calibri\,sans-serif\; font-size:14.6667px">Spectacular Sips &amp\; Sampling Brunch event this Saturday\, 3/23 at 1130 am.&nbsp\; You can make your reservations at&nbsp\;</span></span><a href="https://nam02.safelinks.protection.outlook.com/?url=http%3A%2F%2FReservations.BonefishGrill.com&amp\;data=02%7C01%7CJeffreyPeck%40bonefishgrill.com%7C272a27469a9141ede74608d6adf76f6f%7Cdd656aba7b3a4606a1d5b1d05cad986b%7C0%7C0%7C636887675598290460&amp\;sdata=LAd%2F%2FPOte793DsrlqRPITVZdf7Jj7DjkG50PbXeIuEc%3D&amp\;reserved=0" style="font-family: Calibri\, sans-serif\; font-size: 14.6667px\; background-color: rgb(255\, 255\, 255)\;" target="_blank"><span style="color:#000000">Reservations.BonefishGrill.com</span></a><span style="color:#000000"><span style="background-color:rgb(255\, 255\, 255)\; font-family:calibri\,sans-serif\; font-size:14.6667px">&nbsp\;&nbsp\;It&rsquo\;s $25 a person for an amazing amount of different brunch samples and $5 Mimosa&rsquo\;s.</span></span>
LOCATION:3616 S Memorial Dr Greenville\, NC 27834
UID:e.840.9771
SEQUENCE:3
DTSTAMP:20260420T201519Z
URL:https://business.greenvillenc.org/events/details/spectacular-sips-sampling-brunch-9771
END:VEVENT

END:VCALENDAR
