BEGIN:VCALENDAR
VERSION:2.0
PRODID:-//ChamberMaster//Event Calendar 2.0//EN
METHOD:PUBLISH
X-PUBLISHED-TTL:P3D
REFRESH-INTERVAL:P3D
CALSCALE:GREGORIAN
BEGIN:VEVENT
DTSTART:20180501T210000Z
DTEND:20180501T230000Z
X-MICROSOFT-CDO-ALLDAYEVENT:FALSE
SUMMARY:Small Business Showcase
DESCRIPTION:Join us for this FREE EVENT anytime between 5pm and 7pm in a celebration of Small Business Week! The Small Business Center is proud of the many local start-up businesses that have utilized our free resources. It's time to show these businesses off! Display tables will be set up to show products/services offered from more than 20 local businesses. Our Small Business Center team as well as these business owners will be on-site and available to answer any questions. This event is great for entrepreneurs\, small business owners\, or for anyone who just wants to explore some great local resources. This is also a great event to connect or re-connect with PCC Alumni! Come see what we are all about! You may even win a door prize!!\n\nFor more information\, contact Wendy Dunbar at 252-493-7528 or wdunbar@email.pittcc.edu.
X-ALT-DESC;FMTTYPE=text/html:<p>Join us for this FREE EVENT anytime between 5pm and 7pm in a celebration of Small Business Week! The Small Business Center is proud of the many local start-up businesses that have utilized our free resources. It&#39\;s time to show these businesses off! Display tables will be set up to show products/services offered from more than 20 local businesses. Our Small Business Center team as well as these business owners will be on-site and available to answer any questions. This event is great for entrepreneurs\, small business owners\, or for anyone who just wants to explore some great local resources. This is also a great event to connect or re-connect with PCC Alumni! Come see what we are all about! You may even win a door prize!!</p>\n\n<p>For more information\, contact Wendy Dunbar at 252-493-7528 or wdunbar@email.pittcc.edu.</p>\n
LOCATION:Pitt Community College Greenville Center - Annex 3107 S. Memorial Drive (Annex is building in the back)
UID:e.840.8759
SEQUENCE:3
DTSTAMP:20260421T090010Z
URL:https://business.greenvillenc.org/events/details/small-business-showcase-8759
END:VEVENT

END:VCALENDAR
