BEGIN:VCALENDAR
VERSION:2.0
PRODID:-//ChamberMaster//Event Calendar 2.0//EN
METHOD:PUBLISH
X-PUBLISHED-TTL:P3D
REFRESH-INTERVAL:P3D
CALSCALE:GREGORIAN
BEGIN:VEVENT
DTSTART:20160615T220000Z
DTEND:20160616T000000Z
X-MICROSOFT-CDO-ALLDAYEVENT:FALSE
SUMMARY:Small Business Center Retail Round Table - Amazing Apps for Accelerating Your Business
DESCRIPTION:Join your fellow retailers and discover new apps for your iPhone\, Androids\, and Tablets that can help you be a more successful\, professional and efficient small business owner. Bring your favorite apps to share! Guest speaker and PCC's Small Business Center Counselor\, Shareen Berkowitz\, will also facilitate a Round Table discussion on the pressing concerns you would like to discuss with your fellow retailers. This event is free but pre-registration is required.\nFor more information call 252-493-7528 or register at: https://www.ncsbc.net/workshop.aspx?ekey=380360060.
X-ALT-DESC;FMTTYPE=text/html:<p>Join your fellow retailers and discover new apps for your iPhone\, Androids\, and Tablets that can help you be a more successful\, professional and efficient small business owner. Bring your favorite apps to share! Guest speaker and PCC&#39\;s&nbsp\;Small Business Center Counselor\, Shareen Berkowitz\, will also facilitate a Round Table discussion on the pressing concerns you would like to discuss with your fellow retailers. This event is free but pre-registration is required.</p>\nFor more information call 252-493-7528 or register at: <a href="https://www.ncsbc.net/workshop.aspx?ekey=380360060.">https://www.ncsbc.net/workshop.aspx?ekey=380360060</a>.
LOCATION:Greenville Center 3107 S. Memorial Drive Greenville\, NC 27834
UID:e.840.2689
SEQUENCE:3
DTSTAMP:20260424T071040Z
URL:https://business.greenvillenc.org/events/details/small-business-center-retail-round-table-amazing-apps-for-accelerating-your-business-06-15-2016-2689
END:VEVENT

END:VCALENDAR
