BEGIN:VCALENDAR
VERSION:2.0
PRODID:-//ChamberMaster//Event Calendar 2.0//EN
METHOD:PUBLISH
X-PUBLISHED-TTL:P3D
REFRESH-INTERVAL:P3D
CALSCALE:GREGORIAN
BEGIN:VEVENT
DTSTART:20161119T000000Z
DTEND:20161119T010000Z
X-MICROSOFT-CDO-ALLDAYEVENT:FALSE
SUMMARY:Skippyjon Jones: Snow What?
DESCRIPTION:ECU's Family Fare presents Skippyjon Jones: Snow What! Mirror\, mirror on the wall\, who is the bravest Chihuahua of them all? Skippyjon Jones the Siamese cat who thinks he's a Mexican Chihuahua of course! While his sisters listen to "Snow White and the Seven Dwarves\," Skippy heads off for the REAL adventure awaiting him in his closet. There\, as his alter ego Skippito Friskito\, and with the help of his friends the Seven Chimichangos\, Skippyjon must rescue the beautiful princess Nieve Qu  (Snow What)\, battle the evil dragon and defeat the Bruja. A brand new musical based on the book by Judy Schachner\, Skippyjon Jones Snow What is a twist on the classic fairytale Snow White and the Seven Dwarfs. Family Fare events run sixty minutes with no intermission. Cheaper than the movies\, they are a great way to introduce elementary-aged children to the magic of live theatre.
X-ALT-DESC;FMTTYPE=text/html:<span style="font-family:arial\,helvetica neue\,helvetica\,sans-serif">ECU&#39\;s Family Fare presents&nbsp\;</span><em>Skippyjon Jones: Snow What!</em><span style="font-family:arial\,helvetica neue\,helvetica\,sans-serif">&nbsp\;Mirror\, mirror on the wall\, who is the bravest Chihuahua of them all? Skippyjon Jones the Siamese cat who thinks he&#39\;s a Mexican Chihuahua of course! While his sisters listen to &quot\;Snow White and the Seven Dwarves\,&quot\; Skippy heads off for the REAL adventure awaiting him in his closet. There\, as his alter ego Skippito Friskito\, and with the help of his friends the Seven Chimichangos\, Skippyjon must rescue the beautiful princess Nieve Qu&eacute\; (Snow What)\, battle the evil dragon and defeat the Bruja. A brand new musical based on the book by Judy Schachner\, Skippyjon Jones Snow What is a twist on the classic fairytale Snow White and the Seven Dwarfs. Family Fare events run sixty minutes with no intermission. Cheaper than the movies\, they are a great way to introduce elementary-aged children to the magic of live theatre.</span>
LOCATION:ECU's Wright Auditorium
UID:e.840.2682
SEQUENCE:3
DTSTAMP:20260424T000138Z
URL:https://business.greenvillenc.org/events/details/skippyjon-jones-snow-what-11-18-2016-2682
END:VEVENT

END:VCALENDAR
