BEGIN:VCALENDAR
VERSION:2.0
PRODID:-//ChamberMaster//Event Calendar 2.0//EN
METHOD:PUBLISH
X-PUBLISHED-TTL:P3D
REFRESH-INTERVAL:P3D
CALSCALE:GREGORIAN
BEGIN:VEVENT
DTSTART:20170420T150000Z
DTEND:20170420T170000Z
X-MICROSOFT-CDO-ALLDAYEVENT:FALSE
SUMMARY:Shred Day
DESCRIPTION:Everyone is welcome to bring their unwanted files\, piles\, and unwanted confidential papers\, receipts\, and paid bills.  Supershred\, Inc. will securely shred them quickly and efficiently at no cost.\n\n \n\nA few specifics:\n\n \n\n	         Not Allowed:  plastic bags\, three-ring binders\, no businesses\n\n \n\n\n	         Allowed:  up to five boxes per person\, staples\, paper clips\, thin folders\, paper documents
X-ALT-DESC;FMTTYPE=text/html:<span style="color:windowtext"><span style="font-family:tahoma\,sans-serif"><span style="font-size:11.0pt">Everyone is welcome to bring their unwanted files\, piles\, and unwanted confidential papers\, receipts\, and paid bills.&nbsp\; Supershred\, Inc. will securely shred them quickly and efficiently at no cost.</span></span></span><br />\n&nbsp\;<br />\n<span style="color:windowtext"><span style="font-family:tahoma\,sans-serif"><span style="font-size:11.0pt">A few specifics:</span></span></span><br />\n&nbsp\;\n<ul>\n	<li>&nbsp\;&nbsp\;&nbsp\;&nbsp\;&nbsp\;&nbsp\;&nbsp\;&nbsp\; <span style="color:windowtext"><span style="font-family:tahoma\,sans-serif"><span style="font-size:11.0pt">Not Allowed:&nbsp\; plastic bags\, three-ring binders\, no businesses</span></span></span></li>\n</ul>\n&nbsp\;\n\n<ul>\n	<li>&nbsp\;&nbsp\;&nbsp\;&nbsp\;&nbsp\;&nbsp\;&nbsp\;&nbsp\; <span style="color:windowtext"><span style="font-family:tahoma\,sans-serif"><span style="font-size:11.0pt">Allowed:&nbsp\; up to five boxes per person\, staples\, paper clips\, thin folders\, paper documents</span></span></span></li>\n</ul>\n
LOCATION:250-C Easy Street\, Greenville 27834
UID:e.840.8073
SEQUENCE:3
DTSTAMP:20260423T164327Z
URL:https://business.greenvillenc.org/events/details/shred-day-8073
END:VEVENT

END:VCALENDAR
