BEGIN:VCALENDAR
VERSION:2.0
PRODID:-//ChamberMaster//Event Calendar 2.0//EN
METHOD:PUBLISH
X-PUBLISHED-TTL:P3D
REFRESH-INTERVAL:P3D
CALSCALE:GREGORIAN
BEGIN:VEVENT
DTSTART:20190809T160000Z
DTEND:20190816T040000Z
X-MICROSOFT-CDO-ALLDAYEVENT:FALSE
SUMMARY:Sensually Sweet Chemise 20% off - this week only!
DESCRIPTION:This week only Unveiled Couture's 'Fleur't with Me - Sensually Sweet Chemise' is 20% off when you purchase online!\n\n*Use code 'Unveiled20' at checkout*
X-ALT-DESC;FMTTYPE=text/html:This week only Unveiled Couture&#39\;s &#39\;Fleur&#39\;t with Me - Sensually Sweet Chemise&#39\; is 20% off when you purchase online!<br />\n*Use code &#39\;Unveiled20&#39\; at checkout*
LOCATION:
UID:e.840.10363
SEQUENCE:3
DTSTAMP:20260420T121645Z
URL:https://business.greenvillenc.org/events/details/sensually-sweet-chemise-20-off-this-week-only-10363
END:VEVENT

END:VCALENDAR
