BEGIN:VCALENDAR
VERSION:2.0
PRODID:-//ChamberMaster//Event Calendar 2.0//EN
METHOD:PUBLISH
X-PUBLISHED-TTL:P3D
REFRESH-INTERVAL:P3D
CALSCALE:GREGORIAN
BEGIN:VEVENT
DTSTART:20200215T150000Z
DTEND:20200215T200000Z
X-MICROSOFT-CDO-ALLDAYEVENT:FALSE
SUMMARY:Segway Safety Training @ Town Commons in Greenville $15 for 1/2 hour training
DESCRIPTION:Hello\, everyone!  Segway Tours is having a training event at the Town Commons Park near the flag poles in Greenville for people who are nervous about riding a Segway.  The cost is $15 for the safety training course.  We will supply the helmets\, vests and eyewear.  All you need to do is wear sneakers or flat shoes and comfortable clothing.  There will be a safety training video that must be viewed.  The duration of the training will be between 30 min to 40 min per person.  Please to go to our website: www.ttcsegwaytours.com to sign up / register.  Click on the Contact Us page and enter in your information.  In the comments section enter: Town Commons Safety Training Event.  In the event of inclement whether\, we will contact you to reschedule.\n\n\n\nYou can pay the $15 at the event with credit card or debit card.
X-ALT-DESC;FMTTYPE=text/html:Hello\, everyone!&nbsp\; Segway Tours is having a training event at the Town Commons Park near the flag poles in Greenville for people who are nervous about riding a Segway.&nbsp\; The cost is $15 for the safety training course.&nbsp\; We will supply the helmets\, vests and eyewear.&nbsp\; All you need to do is wear sneakers or flat shoes and comfortable clothing.&nbsp\; There will be a safety training video that must be viewed.&nbsp\; The duration of the training will be between 30 min to 40 min per person.&nbsp\; Please to go to our website: www.ttcsegwaytours.com to sign up / register.&nbsp\; Click on the Contact Us page and enter in your information.&nbsp\; In the comments section enter: Town Commons Safety Training Event.&nbsp\; In the event of inclement whether\, we will contact you to reschedule.<br />\n<br />\nYou can pay the $15 at the event with credit card or debit card.
LOCATION:Town Commons Park (near flagpole)\, Greenville\, NC
UID:e.840.10986
SEQUENCE:3
DTSTAMP:20260420T031053Z
URL:https://business.greenvillenc.org/events/details/segway-training-town-commons-in-greenville-15-for-1-2-hour-training-10986
END:VEVENT

END:VCALENDAR
