BEGIN:VCALENDAR
VERSION:2.0
PRODID:-//ChamberMaster//Event Calendar 2.0//EN
METHOD:PUBLISH
X-PUBLISHED-TTL:P3D
REFRESH-INTERVAL:P3D
CALSCALE:GREGORIAN
BEGIN:VEVENT
DTSTART:20200516T140000Z
DTEND:20200516T190000Z
X-MICROSOFT-CDO-ALLDAYEVENT:FALSE
SUMMARY:Segway Training Lesson @ Town Commons in Greenville $15 for 1 hour training. FREE for 1 person if you come as a group of 3 or more
DESCRIPTION:TTC Segway Tours is giving training lessons at the Town Commons Park near the flag poles in Greenville for people who are nervous about riding a Segway.  The cost is $15 for the safety training course. ****FREE for 1 person if you come as a group of 3 or more. ****  We will supply the helmets\, vests and eyewear.  All you need to do is wear sneakers or flat shoes and comfortable clothing.  You must be at least 16 years old. There will be a safety training video that must be viewed.  The duration of the training will be 1 hour.  Please go to our website: www.ttcsegwaytours.com to sign up / register.  Click on the Contact Us page and enter in your information.  In the comments section enter: Town Commons Training Lessons.  In the event of inclement weather\, we will contact you to reschedule.\n\n\n\nYou can pay the $15 on site with credit card or debit card.
X-ALT-DESC;FMTTYPE=text/html:<p><span style="background-color:rgb(255\, 255\, 255)\; color:rgb(51\, 51\, 51)\; font-family:arial\,sans-serif\; font-size:10pt">TTC Segway Tours is giving training lessons at the Town Commons Park near the flag poles in Greenville for people who are nervous about riding a Segway. &nbsp\;The cost is $15 for the safety training course.&nbsp\;****FREE for 1 person if you come as a group of 3 or more. **** &nbsp\;We will supply the helmets\, vests and eyewear.&nbsp\; All you need to do is wear sneakers or flat shoes and comfortable clothing.&nbsp\; You must be at least 16 years old. There will be a safety training video that must be viewed.&nbsp\; The duration of the training will be 1 hour.&nbsp\; Please go to our website: www.ttcsegwaytours.com to sign up / register.&nbsp\; Click on the Contact Us page and enter in your information.&nbsp\; In the comments section enter: Town Commons Training Lessons.&nbsp\; In the event of inclement weather\, we will contact you to reschedule.</span><br />\n<br />\n<span style="color:#333333"><span style="font-family:arial\,sans-serif"><span style="font-size:10.0pt">You can pay the $15 on site with credit card or debit card.</span></span></span></p>\n
LOCATION:Town Commons Park (near flagpole)\, Greenville\, NC
UID:e.840.11407
SEQUENCE:3
DTSTAMP:20260420T000617Z
URL:https://business.greenvillenc.org/events/details/segway-training-lesson-town-commons-in-greenville-15-for-1-hour-training-free-for-1-person-if-you-come-as-a-group-of-3-or-more-05-16-2020-11407
END:VEVENT

END:VCALENDAR
