BEGIN:VCALENDAR
VERSION:2.0
PRODID:-//ChamberMaster//Event Calendar 2.0//EN
METHOD:PUBLISH
X-PUBLISHED-TTL:P3D
REFRESH-INTERVAL:P3D
CALSCALE:GREGORIAN
BEGIN:VEVENT
DTSTART:20151205T230000Z
DTEND:20151206T040000Z
X-MICROSOFT-CDO-ALLDAYEVENT:FALSE
SUMMARY:Second Annual Farmers Ball
DESCRIPTION:Please join us for our Second Annual Farmers Ball at the Greenville Convention Center\n\n\n\nThis Year's Theme: "Local Farmers - Helping People Control their Health"\n\n\n\nCocktail and Networking Hour: 6:00 p.m. - 7:00 p.m.\n\n\n\nDinner: 7:00 p.m.\n\n\n\nPresentation to Honorees\n\n\n\nFarmer Honorees: Mr. Robert D. Glover (Rob Glover Farming) and Mr. Jason Brown (First Fruits Farm)\n\n\n\nKeynote Speaker: The Honorable Vernita F. Dore\, Deputy Under Secretary\, U.S. Department of Agriculture\, Rural Development\n\n\n\nDancing begins at 8:30 p.m.\n\n\n\nMusic provided by: The Ruffin Keys Ensemble\n\n\n\nAttire: Black Tie Optional\n\n\n\nTo show our appreciation for your support and to start you on your journey of eating healthier\, we are giving a gift of farm fresh food items to each guest.\n\n\n\nWe will be auctioning a 250 pound dressed Pastured Pig at the event. Opening bid is $250.00.
X-ALT-DESC;FMTTYPE=text/html:<strong>Please join us for our Second Annual Farmers Ball at the Greenville Convention Center</strong><br />\n<br />\nThis Year&#39\;s Theme:<strong> <em>&quot\;Local Farmers - Helping People Control their Health&quot\;</em></strong><br />\n<br />\nCocktail and Networking Hour: 6:00 p.m. - 7:00 p.m.<br />\n<br />\nDinner: 7:00 p.m.<br />\n<br />\nPresentation to Honorees<br />\n<br />\nFarmer Honorees: <strong>Mr. Robert D. Glover (Rob Glover Farming) and Mr. Jason Brown (First Fruits Farm)</strong><br />\n<br />\nKeynote Speaker: <strong>The Honorable Vernita F. Dore\, Deputy Under Secretary\, U.S. Department of Agriculture\, Rural Development</strong><br />\n<br />\nDancing begins at 8:30 p.m.<br />\n<br />\nMusic provided by: <strong>The Ruffin Keys Ensemble</strong><br />\n<br />\nAttire: <strong>Black Tie Optional</strong><br />\n<br />\n<span style="font-size: 14px\;"><strong>To show our&nbsp\;appreciation for your support and&nbsp\;to start you on your journey of eating healthier\,&nbsp\;we&nbsp\;are&nbsp\;giving a gift of farm fresh&nbsp\;food items&nbsp\;to each guest.<br />\n<br />\n<span style="font-size: 16px\;">We will be auctioning a 250 pound dressed Pastured Pig at the event. Opening bid is $250.00.</span></strong></span><br />\n&nbsp\;
LOCATION:Greenville Convention Center - 303 Greenville Blvd SW\, Greenville\, NC 27834
UID:e.840.2444
SEQUENCE:3
DTSTAMP:20260424T164425Z
URL:https://business.greenvillenc.org/events/details/second-annual-farmers-ball-12-05-2015-2444
END:VEVENT

END:VCALENDAR
