BEGIN:VCALENDAR
VERSION:2.0
PRODID:-//ChamberMaster//Event Calendar 2.0//EN
METHOD:PUBLISH
X-PUBLISHED-TTL:P3D
REFRESH-INTERVAL:P3D
CALSCALE:GREGORIAN
BEGIN:VEVENT
DTSTART:20190204T230000Z
DTEND:20190205T000000Z
X-MICROSOFT-CDO-ALLDAYEVENT:FALSE
SUMMARY:"Screenagers" Viewing and Internet Safety Discussion
DESCRIPTION:Through poignant and unexpected funny stories\, along with surprising insights from authors\, psychologists\, and brain scientists\, SCREENAGERS reveals how tech impacts kids' development and offers solutions on how adults can empower kids to best navigate the digital world and find balance. Presented by Pitt County Schools Students Against Destructive Decisions (SADD) and the AG Cox Middle School PTA\, the community and concerned parents are welcome to attend. Free food and prizes\, homework help and childcare is provided.
X-ALT-DESC;FMTTYPE=text/html:Through poignant and unexpected funny stories\, along with surprising insights from authors\, psychologists\, and brain scientists\, SCREENAGERS reveals how tech impacts kids&#39\; development and offers solutions on how adults can empower kids to best navigate the digital world and find balance. Presented by Pitt County Schools Students Against Destructive Decisions (SADD) and the AG Cox Middle School PTA\, the community and concerned parents are welcome to attend. Free food and prizes\, homework help and childcare is provided.&nbsp\;
LOCATION:AG Cox Middle School 2657 Church St. Winterville\, NC 28590
UID:e.840.9759
SEQUENCE:3
DTSTAMP:20260420T203643Z
URL:https://business.greenvillenc.org/events/details/screenagers-viewing-and-internet-safety-discussion-9759
END:VEVENT

END:VCALENDAR
