BEGIN:VCALENDAR
VERSION:2.0
PRODID:-//ChamberMaster//Event Calendar 2.0//EN
METHOD:PUBLISH
X-PUBLISHED-TTL:P3D
REFRESH-INTERVAL:P3D
CALSCALE:GREGORIAN
BEGIN:VEVENT
DTSTART;VALUE=DATE:20200803
DTEND;VALUE=DATE:20200901
TRANSP:TRANSPARENT
X-MICROSOFT-CDO-ALLDAYEVENT:TRUE
SUMMARY:School Supply Drive For Students of Pitt County
DESCRIPTION:Suddenlink and Parents for Public Schools of Pitt County are proud to host a school supply drive beginning August 3 through August 31. The effort to support education readiness will help ensure Pitt County students have the necessary school supplies needed for the upcoming school year at home and in the classroom.\n\n\n\nAs members of the Greenville community\, Suddenlink and Parents for Public Schools of Pitt County are asking the community to support K-12 students by donating new school supplies for the students of Pitt County. Community members and organizations can support local students by purchasing supplies locally or online at Amazon (link below) and can be dropped off or delivered directly to Suddenlink located at 2120 W. Arlington Blvd.\, Greenville\, NC 27834. Supplies collected during the drive will be distributed to Pitt County Public School District and will provide students with the resources they need to positively impact their 2020-2021 school year.\n\n\n\nAmazon link: https://www.amazon.com/hz/wishlist/ls/31GGLN93LBASP/ref=nav_wishlist_lists_1?_encoding=UTF8&type=wishlist&fbclid=IwAR2kTwVGP8dK2ztb2Z1Rc8Ld1ZVw_dcAz31Y5hCH7rJ8LQreg6PtdnECuLM
X-ALT-DESC;FMTTYPE=text/html:<span style="font-family:helvetica neue\,helvetica\,arial\,sans-serif\; font-size:14px">Suddenlink and Parents for Public Schools of Pitt County are proud to host a school supply drive beginning August 3 through August 31. The effort to support education readiness will help ensure Pitt County students have the necessary school supplies needed for the upcoming school year at home and in the classroom.<br />\n<br />\nAs members of the Greenville community\, Suddenlink and Parents for Public Schools of Pitt County are asking the community to support K-12 students by donating new school supplies for the students of Pitt County. Community members and organizations can support local students by purchasing supplies locally or online at Amazon (link below) and can be dropped off or delivered directly to Suddenlink located at 2120 W. Arlington Blvd.\, Greenville\, NC 27834. Supplies collected during the drive will be distributed to Pitt County Public School District and will provide students with the resources they need to positively impact their 2020-2021 school year.<br />\n<br />\nAmazon link:&nbsp\;</span><a href="https://www.amazon.com/hz/wishlist/ls/31GGLN93LBASP/ref=nav_wishlist_lists_1?_encoding=UTF8&amp\;type=wishlist&amp\;fbclid=IwAR2kTwVGP8dK2ztb2Z1Rc8Ld1ZVw_dcAz31Y5hCH7rJ8LQreg6PtdnECuLM">https://www.amazon.com/hz/wishlist/ls/31GGLN93LBASP/ref=nav_wishlist_lists_1?_encoding=UTF8&amp\;type=wishlist&amp\;fbclid=IwAR2kTwVGP8dK2ztb2Z1Rc8Ld1ZVw_dcAz31Y5hCH7rJ8LQreg6PtdnECuLM</a>
LOCATION:
UID:e.840.11433
SEQUENCE:3
DTSTAMP:20260419T191838Z
URL:https://business.greenvillenc.org/events/details/school-supply-drive-for-students-of-pitt-county-11433
END:VEVENT

END:VCALENDAR
