BEGIN:VCALENDAR
VERSION:2.0
PRODID:-//ChamberMaster//Event Calendar 2.0//EN
METHOD:PUBLISH
X-PUBLISHED-TTL:P3D
REFRESH-INTERVAL:P3D
CALSCALE:GREGORIAN
BEGIN:VEVENT
DTSTART:20170429T140000Z
DTEND:20170429T180000Z
X-MICROSOFT-CDO-ALLDAYEVENT:FALSE
SUMMARY:Save The Frogs Day
DESCRIPTION:Description: Save The Frogs Day is the world's largest day of amphibian education and conservation action. Come learn about the importance of amphibians in the wetland ecosystem and get inspired to help save the world's most rapidly disappearing animals.
X-ALT-DESC;FMTTYPE=text/html:<span style="font-family:times new roman\,serif\; font-size:12pt">Description: </span><span style="font-family:times new roman\,serif\; font-size:12pt">Save The Frogs Day is the world&rsquo\;s largest day of amphibian education and conservation action. Come learn about the importance of amphibians in the wetland ecosystem and get inspired to help save the world&rsquo\;s most rapidly disappearing animals.</span>
LOCATION:500 Sylvan Heights Park Way Scotland Neck\, NC 27874
UID:e.840.8080
SEQUENCE:3
DTSTAMP:20260423T164507Z
URL:https://business.greenvillenc.org/events/details/save-the-frogs-day-8080
END:VEVENT

END:VCALENDAR
