BEGIN:VCALENDAR
VERSION:2.0
PRODID:-//ChamberMaster//Event Calendar 2.0//EN
METHOD:PUBLISH
X-PUBLISHED-TTL:P3D
REFRESH-INTERVAL:P3D
CALSCALE:GREGORIAN
BEGIN:VEVENT
DTSTART:20180505T140000Z
DTEND:20180505T190000Z
X-MICROSOFT-CDO-ALLDAYEVENT:FALSE
SUMMARY:Saturday Pop-Up Market at Artisans
DESCRIPTION:Join us on Saturday for our weekly indoor Pop-Up Market! Starting at 10am\, we will have vendors selling food\, jewelry\, wood creations\, clothing and more. Plus\, there will be live music! Come see what everyone is talking about! If you are interested in being a vendor\, please call Brittany at 252-353-8008.
X-ALT-DESC;FMTTYPE=text/html:<span style="color:rgb(29\, 33\, 41)\; font-family:sf optimized\,system-ui\,-apple-system\,blinkmacsystemfont\,.sfnstext-regular\,sans-serif\; font-size:12px">Join us on Saturday for our weekly indoor Pop-Up Market! Starting at 10am\, we will have vendors selling food\, jewelry\, wood creations\, clothing and more. Plus\, there will be live music! Come see what everyone is talking about! If you are interested in being a vendor\, please call Brittany at 252-353-8008.</span>
LOCATION:Artisans Decorative Accessories & Fine Gifts 150 Plaza Drive Greenville\, NC 27858
UID:e.840.8711
SEQUENCE:3
DTSTAMP:20260421T091245Z
URL:https://business.greenvillenc.org/events/details/saturday-pop-up-market-at-artisans-05-05-2018-8711
END:VEVENT

END:VCALENDAR
