BEGIN:VCALENDAR
VERSION:2.0
PRODID:-//ChamberMaster//Event Calendar 2.0//EN
METHOD:PUBLISH
X-PUBLISHED-TTL:P3D
REFRESH-INTERVAL:P3D
CALSCALE:GREGORIAN
BEGIN:VEVENT
DTSTART:20161210T150000Z
DTEND:20161210T230000Z
X-MICROSOFT-CDO-ALLDAYEVENT:FALSE
SUMMARY:Santa Photos at Artisans of Greenville
DESCRIPTION:Santa and Mrs. Clause will be at Artisans this weekend from 10-6 on Saturday & 10-5 on Sunday! No appointments necessary & printing on the spot! Join us as we celebrate the holidays with our favorite North Pole residents!
X-ALT-DESC;FMTTYPE=text/html:<span style="color:rgb(29\, 33\, 41)\; font-family:san francisco\,-apple-system\,blinkmacsystemfont\,.sfnstext-regular\,sans-serif\; font-size:14px">Santa and Mrs. Clause will be at Artisans this weekend from 10-6 on Saturday &amp\; 10-5 on Sunday! No appointments necessary &amp\; printing on the spot! Join us as we celebrate the holidays with our favorite North Pole residents!</span>
LOCATION:Artisans of Greenville 150 Plaza Drive Greenville\, NC 27858
UID:e.840.7711
SEQUENCE:3
DTSTAMP:20260423T223712Z
URL:https://business.greenvillenc.org/events/details/santa-photos-at-artisans-of-greenville-7711
END:VEVENT

END:VCALENDAR
