BEGIN:VCALENDAR
VERSION:2.0
PRODID:-//ChamberMaster//Event Calendar 2.0//EN
METHOD:PUBLISH
X-PUBLISHED-TTL:P3D
REFRESH-INTERVAL:P3D
CALSCALE:GREGORIAN
BEGIN:VEVENT
DTSTART:20161215T050000Z
DTEND:20161218T010000Z
X-MICROSOFT-CDO-ALLDAYEVENT:FALSE
SUMMARY:SAMS CLUB ONE DAY ONLY !
DESCRIPTION:ONE DAY ONLY!! SATURDAY\, DECEMBER 17\, 2016 LAST MINUTE GIFT IDEAS and SUPER SAVINGS Taste of Sam's Club from 11am - 6pm
X-ALT-DESC;FMTTYPE=text/html:ONE DAY ONLY!! SATURDAY\, DECEMBER 17\, 2016 LAST MINUTE GIFT IDEAS and SUPER SAVINGS Taste of Sam&#39\;s Club from 11am - 6pm
LOCATION:Sam's Club Winterville
UID:e.840.7720
SEQUENCE:3
DTSTAMP:20260424T000023Z
URL:https://business.greenvillenc.org/events/details/sams-club-one-day-only-7720
END:VEVENT

END:VCALENDAR
