BEGIN:VCALENDAR
VERSION:2.0
PRODID:-//ChamberMaster//Event Calendar 2.0//EN
METHOD:PUBLISH
X-PUBLISHED-TTL:P3D
REFRESH-INTERVAL:P3D
CALSCALE:GREGORIAN
BEGIN:VEVENT
DTSTART:20160910T140000Z
DTEND:20160911T220000Z
X-MICROSOFT-CDO-ALLDAYEVENT:FALSE
SUMMARY:Sams Club - Join & Save Special Weekend of Savings
DESCRIPTION:Sam's Club will be having a National Join & Save Event on Saturday and Sunday September 9 - 10 \, from 10:00 a.m. - 6:00 p.m.\n\n\n\nSimply bring this form to the membership desk to join or renew .\n\n \n\nNew Plus Members will receive a $25.00 gift card upon joining. ** New Members only**\n\n\n\nThere will also be a free health screening from 11:00 a.m. - 3:00 p.m.
X-ALT-DESC;FMTTYPE=text/html:Sam&#39\;s Club will be having a National Join &amp\; Save Event on Saturday and Sunday September 9 - 10 \, from 10:00 a.m. - 6:00 p.m.<br />\n<br />\nSimply bring this form to the membership desk to join or renew .<br />\n&nbsp\;<br />\nNew Plus Members will receive a $25.00 gift card upon joining. ** New Members only**<br />\n<br />\nThere will also be a free health screening from 11:00 a.m. - 3:00 p.m.
LOCATION:Sam's Club # 6216 4240 Winterville Pkwy. Winterville \, N.C 28590
UID:e.840.5850
SEQUENCE:3
DTSTAMP:20260424T025227Z
URL:https://business.greenvillenc.org/events/details/sams-club-join-save-special-weekend-of-savings-5850
END:VEVENT

END:VCALENDAR
