BEGIN:VCALENDAR
VERSION:2.0
PRODID:-//ChamberMaster//Event Calendar 2.0//EN
METHOD:PUBLISH
X-PUBLISHED-TTL:P3D
REFRESH-INTERVAL:P3D
CALSCALE:GREGORIAN
BEGIN:VEVENT
DTSTART:20161226T170000Z
DTEND:20170113T170000Z
X-MICROSOFT-CDO-ALLDAYEVENT:FALSE
SUMMARY:Sam's Club January Business Focus 2017
DESCRIPTION:Sam's Club Business Focuses will be on Monday January 9\, 2016 - Friday January 13\, 2016 . Representatives are making appointments to assist you with your business needs . The Focus is to provide one on one service to our Members and to keep you informed on the continuing Benefits of Membership. Call today to make an appointment and take advantage of special incentives when we bring the business to you!!
X-ALT-DESC;FMTTYPE=text/html:Sam&#39\;s Club Business Focuses will be on Monday January 9\, 2016 - Friday January 13\, 2016 . Representatives are making appointments to assist you with your business needs . The Focus is to provide one on one service to our Members and to keep you informed on the continuing Benefits of Membership. Call today to make an appointment and take advantage of special incentives when we bring the business to you!!
LOCATION:Greenville- Pitt County and the surrounding areas
UID:e.840.7722
SEQUENCE:3
DTSTAMP:20260423T211333Z
URL:https://business.greenvillenc.org/events/details/sam-s-club-january-business-focus-2017-7722
END:VEVENT

END:VCALENDAR
